{"text_format":"2","workbook":"xlsx","n_sheets":6,"sheets":["1차","2차","전체학교명부","3차 모집 학교_15개교","매칭결과안내문_학교","매칭결과안내문_대학생"],"not_rendered":{"charts":0,"images":0,"macros":0,"external_links":0,"defined_names":2,"comments":1,"pivot_tables":0},"unopened":[],"bounds":{"document_bytes":16777216,"sheet_cells":100000,"run_cost":"one","rows_first":2000,"rows_last":500,"rows_between":2000,"halvings":0,"cell_chars":16384,"cell_head_chars":4096},"cells_cut":0,"cells_raw":0,"read":"whole","date_system":"1900"}

{"sheet":"1차","index":0,"n_rows":452,"n_cols":16,"rows_kept":452,"cut":false,"hidden":true,"merged":[[0,0,0,15]]}
["2015년 대학생과 함께하는 STEAM 1차 매칭결과"]
[]
["순번","지역","학교급","학교명","담당교사","학교 연락처","팀명","구성원","이름","성별","대학","학과","학년","활동기간 중 본인 거주지","거주지역","거리"]
[1,"서울","초","서울갈산초등학교","원윤경","02-2679-7232","푸르미르","팀장","배준혁","남","중앙대학교","전자전기공학부",3,"서울시 동작구","서울","단거리"]
[{"$nulls":7},"팀원","현지영","여","중앙대학교","전자전기공학부",4,"서울시 동작구","서울","단거리"]
[{"$nulls":7},"팀원","심도연","여","중앙대학교","전자전기공학부",4,"서울시 동작구","서울","단거리"]
[{"$nulls":7},"팀원","김윤태","남","중앙대학교","전자전기공학부",3,"성남시 분당구","경기","단거리"]
[{"$nulls":7},"팀원","안태원","남","중앙대학교","전자전기공학부",3,"서울시 양천구","서울","단거리"]
[{"$nulls":7},"팀원","김준영","남","중앙대학교","전자전기공학부",3,"서울시 양천구","서울","단거리"]
[2,"서울","초","서울갈현초등학교","남미선","02-355-0835","새섬&새내기","팀장","김우경","여","한동대학교","상담심리/사회복지 학부",3,"창원시","경남","중/장거리"]
[{"$nulls":7},"팀원","정시은","남","한동대학교","GLS 학부(글로벌 리더십학부)",1,"김해시","경남","중/장거리"]
[{"$nulls":7},"팀원","성해욱","남","한동대학교","GLS 학부(글로벌 리더십학부)",1,"서울시","서울","단거리"]
[{"$nulls":7},"팀원","유화현","여","한동대학교","GLS 학부(글로벌 리더십학부)",1,"전주시","전북","중/장거리"]
[{"$nulls":7},"팀원","민규동","남","한동대학교","GLS 학부(글로벌 리더십학부)",1,"수원시","경기","단거리"]
[{"$nulls":7},"팀원","윤경은","여","한동대학교","GLS 학부(글로벌 리더십학부)",1,"대전시 유성구","대전","중/장거리"]
[3,"서울","초","서울공덕초등학교","정동수","02-703-6069","WRC","팀장","조준상","남","대진대학교","컴퓨터공학과",1,"서울시 노원구","서울","단거리"]
[{"$nulls":7},"팀원","문혜진","여","서강대학교","Art&Technology",1,"서울시 노원구","서울","단거리"]
[{"$nulls":7},"팀원","김정용","남","서울과학기술대학교","기계시스템디자인공학과",1,"서울시 노원구","서울","단거리"]
[{"$nulls":7},"팀원","이정우","남","인덕대학교","컴퓨터전자과",1,"서울시 노원구","서울","단거리"]
[{"$nulls":7},"팀원","김상원","남","세종대학교","기계항공우주공학과",1,"서울시 성동구","서울","단거리"]
[{"$nulls":7},"팀원","이영성","남","경기과학기술대","기계설계과",1,"서울시 도봉구","서울","단거리"]
[4,"서울","초","서울길동초등학교","이강규","02-475-5591(607)","코딧","팀장","이송연","여","숙명여자대학교","멀티미디어과학과",2,"서울시 용산구","서울","단거리"]
[{"$nulls":7},"팀원","박재연","여","숙명여자대학교","멀티미디어과학과",2,"서울시 노원구","서울","단거리"]
[{"$nulls":7},"팀원","유서연","여","숙명여자대학교","멀티미디어과학과",2,"고양시 일산동구","경기","단거리"]
[{"$nulls":7},"팀원","이수연","여","숙명여자대학교","멀티미디어과학과",2,"서울시 서대문구","서울","단거리"]
[{"$nulls":7},"팀원","이하은","여","숙명여자대학교","멀티미디어과학과",2,"경기도 파주시 문산읍","경기","단거리"]
[5,"서울","초","서울당현초등학교","안찬원","02-932-0605","하이스트","팀장","이선미","여","춘천교육대학교","윤리교육과",2,"서울시 노원구","서울","단거리"]
[{"$nulls":7},"팀원","이하기","남","춘천교육대학교","음악교육과",2,"서울시 노원구","서울","단거리"]
[{"$nulls":7},"팀원","김시원","남","춘천교육대학교","컴퓨터교육과",2,"서울 도봉구","서울","단거리"]
[{"$nulls":7},"팀원","차은영","여","춘천교육대학교","윤리교육과",2,"서울시 영등포구","서울","단거리"]
[{"$nulls":7},"팀원","김태현","남","공주교육대학교","윤리교육과",1,"서울시 서초구","서울","단거리"]
[{"$nulls":7},"팀원","윤현식","남","성균관대학교","바이오메카트로닉스학과",3,"서울시 노원구","서울","단거리"]
[6,"서울","초","서울면동초등학교","이진희","02-434-2697(234)","S-TEAM","팀장","이홍주","여","서울교육대학교","생활과학교육과",2,"서울시 서초구","서울","단거리"]
[{"$nulls":7},"팀원","신현진","여","서울교육대학교","과학교육과",2,"서울시 서초구","서울","단거리"]
[{"$nulls":7},"팀원","이성윤","여","서울교육대학교","과학교육과",2,"서울시 양천구","서울","단거리"]
[{"$nulls":7},"팀원","오솔미","여","서울교육대학교","과학교육과",2,"서울시 강남구","서울","단거리"]
[{"$nulls":7},"팀원","김하영","여","서울교육대학교","생활과학교육과",2,"서울시 강서구","서울","단거리"]
[{"$nulls":7},"팀원","구민지","여","서울교육대학교","생활과학교육과",2,"서울시 동작구","서울","단거리"]
[{"$nulls":7},"팀원","손휘윤","여","서울교육대학교","생활과학교육과",2,null,"서울","단거리"]
[7,"서울","초","서울명덕초등학교","장남욱","02-441-2156","Aerotaract","팀장","강다솜","여","한국항공대학교","항공우주공학과",2,"고양시 덕양구","경기","단거리"]
[{"$nulls":7},"팀원","양지민","남","한국항공대학교","항공우주공학과",2,"고양시 덕양구","경기","단거리"]
[{"$nulls":7},"팀원","오희석","남","한국항공대학교","전자공학과",2,"안산시 상록구","경기","단거리"]
[{"$nulls":7},"팀원","안정혁","남","한국항공대학교","기계공학과",2,"서울 남동구","서울","단거리"]
[{"$nulls":7},"팀원","송재욱","남","한국항공대학교","항공우주및기계공학부",1,"서울 은평구","서울","단거리"]
[{"$nulls":7},"팀원","천경필","남","한국항공대학교","기계공학과",3,"서울 마포구","서울","단거리"]
[8,"서울","초","서울불암초등학교","배민정","02-932-5581","난선생이고넌제자야","팀장","김진","여","한국외국어대학교 글로벌캠퍼스","화학과",1,"서울특별시 은평구 응암3동 749-6 202호","서울","단거리"]
[{"$nulls":7},"팀원","김소정","여","세종대학교","생명시스템학부",1,"서울특별시 은평구 구산동 15-19 예일노블레스 c동 502호","서울","단거리"]
[{"$nulls":7},"팀원","장하영","여","한국외국어대학교 서울캠퍼스","스칸디나비아어과",1,"서울특별시 서대문구 남가좌동 190-33 1층","서울","단거리"]
[{"$nulls":7},"팀원","김민정","여","중앙대학교 안성캠퍼스","생명자원공학부",1,"서울특별시 서대문구 남가좌동 증가로8길 33-11 솔로몬하우스3 301호","서울","단거리"]
[{"$nulls":7},"팀원","유예빈","여","가천대학교 글로벌캠퍼스","사회복지학과",1,"서울특별시 서대문구 홍은2동 274-67 대신빌라 402호","서울","단거리"]
[{"$nulls":7},"팀원","오채원","여","한국외국어대학교 글로벌캠퍼스","세르비아크로아티아어과",1,"서울특별시 서대문구 북가좌동 가재울아파트 104동 205호","서울","단거리"]
[9,"서울","초","서울용산초등학교","김영주","02-795-0782","Win-win","팀장","연다정","여","한국외국어대학교","영어통번역학과",4,"서울시 동작구","서울","단거리"]
[{"$nulls":7},"팀원","연소정","여","한양대학교","정보사회학과",1,"서울시 동작구","서울","단거리"]
[{"$nulls":7},"팀원","김율아","여","방송통신대학교","미디어영상학과",3,"서울시 동작구","서울","단거리"]
[{"$nulls":7},"팀원","함세미","여","한국외국어대학교","영어통번역학과",4,"경기도 남양주","경기","단거리"]
[{"$nulls":7},"팀원","송예원","여","아주대학교","간호학과",4,"서울시 노원구","서울","단거리"]
[{"$nulls":7},"팀원","박향기","여","한양대학교","영미언어학과",1,"경기도 안산시","경기","단거리"]
[10,"서울","초","서울장충초등학교","남미영","02-2238-9091","열정갑","팀장","윤인수","남","한양대학교","교육공학과",4,"서울시 강북구","서울","단거리"]
[{"$nulls":7},"팀원","권남훈","남","한양대학교","교육공학과",2,"서울시 성동구","서울","단거리"]
[{"$nulls":7},"팀원","노태환","남","한양대학교","교육학과",4,"서울시 동대문구","서울","단거리"]
[{"$nulls":7},"팀원","박효진","여","한양대학교","교육공학과",3,"서울시 성동구, 부산시","서울","단거리"]
[{"$nulls":7},"팀원","이은지","여","한양대학교","교육학과",4,"서울시 강동구","서울","단거리"]
[{"$nulls":7},"팀원","최보경","여","한양대학교","교육공학과",4,"서울시 양천구","서울","단거리"]
[11,"서울","중","광신중학교","이명구","02-881-8652","믹스팀","팀원","구교빈","남","건국대학교","물리(전기공학 복전)",2,"서울시 광진구","서울","단거리"]
[{"$nulls":7},"팀원","김노은","여","명지대학교","행정학과(교직이수)",3,"성남시 분당구","경기","단거리"]
[{"$nulls":7},"팀원","민혜성","여","이화여자대학교","동양화",2,"경기도 성남시","경기","단거리"]
[{"$nulls":7},"팀원","성명륜","남","포항공대","기계공학",3,"인천광역시 계양구","인천","단거리"]
[{"$nulls":7},"팀원","유건우","남","한양대학교","융합전자",2,"서울시 성북구","서울","단거리"]
[{"$nulls":7},"팀장","이재희","여","이화여자대학교","교육학(영어교육 복전)",3,"서울시 성북구","서울","단거리"]
[12,"서울","중","대명중학교","백영숙","02-565-3028","너울가지","팀장","김정은","여","한양대학교 ERICA","응용화학과",2,"경기도 안산","경기","단거리"]
[{"$nulls":7},"팀원","남은비","여","한양대학교 ERICA","응용화학과",2,"경기도 안산","경기","단거리"]
[{"$nulls":7},"팀원","박민희","여","한양대학교 ERICA","응용화학과",2,"서울","서울","단거리"]
[{"$nulls":7},"팀원","김수지","여","강남대학교","사회복지학부",2,"서울","서울","단거리"]
[{"$nulls":7},"팀원","김정민","여","동덕여자대학교","문헌정보학과",2,"서울","서울","단거리"]
[{"$nulls":7},"팀원","양효은","여","서경대학교","공공인적자원학부",2,"서울","서울","단거리"]
[13,"서울","중","마포중학교","박승빈","02-3663-2587","G.I.S","팀장","최원빈","남","서울대학교","화학생물공학부",1,"서울시 서초구","서울","단거리"]
[{"$nulls":7},"팀원","김현진","여","서강대학교","전자공학과",1,"서울시 양천구","서울","단거리"]
[{"$nulls":7},"팀원","최윤식","남","서울대학교","물리천문학부",1,"서울시 송파구","서울","단거리"]
[{"$nulls":7},"팀원","최도형","남","서울대학교","농경제사회학부",1,"서울시 성북구","서울","단거리"]
[{"$nulls":7},"팀원","장윤지","여","서강대학교","경영학부",1,"서울시 강남구","서울","단거리"]
[{"$nulls":7},"팀원","박채영","여","고려대학교","정경학부",1,"서울시 송파구","서울","단거리"]
[14,"서울","중","연서중학교","임환영","02-6715-8000","숭하다","팀장","백경만","남","숭실대학교","물리학과",3,"경기도 안양시 ","경기","단거리"]
[{"$nulls":7},"팀원","공영환","남","숭실대학교","철학과",3,"경기도 시흥시","경기","단거리"]
[{"$nulls":7},"팀원","박민원","남","연세대학교","생물학과",3,"서울시 송파구","서울","단거리"]
[{"$nulls":7},"팀원","위가혜","여","숭실대학교","컴퓨터학부",3,"서울시 동작구","서울","단거리"]
[{"$nulls":7},"팀원","조성경","여","숭실대학교","화학과",3,"서울시 마포구","서울","단거리"]
[{"$nulls":7},"팀원","강석영","여","숭실대학교","컴퓨터학부",3,"서울시 동작구","서울","단거리"]
[15,"서울","중","예일여자중학교","장영훈","02-380-0902","어우름","팀장","정동준","남","대진대학교","컴퓨터공학과",4,"경기도 남양주시","경기","단거리"]
[{"$nulls":7},"팀원","유동형","남","한국항공대학교","정보통신공학과",3,"경기도 고양시","경기","단거리"]
[{"$nulls":7},"팀원","서지훈","남","한밭대학교","전자제어공학과",2,"인천시 계양구","인천","단거리"]
[{"$nulls":7},"팀원","이예림","여","이화여자대학교","과학교육과",1,"서울시 은평구","서울","단거리"]
[{"$nulls":7},"팀원","최보현","여","성신여자대학교","수학과",1,"서울시 은평구","서울","단거리"]
[{"$nulls":7},"팀원","사쿠라이 후미(김후미)","여","상명대학교","화학과",1,"서울시 은평구","서울","단거리"]
[16,"서울","중","장평중학교","김동식","02-2243-8282","어처구니","팀장","김유진","여","동국대학교","가정교육과",4,"서울시 동대문구","서울","단거리"]
[{"$nulls":7},"팀원","주지은","여","동국대학교","수학교육과",4,"서울시 광진구","서울","단거리"]
[{"$nulls":7},"팀원","박정철","남","가천대학교","법학과",2,"성남시 분당구","경기","단거리"]
[{"$nulls":7},"팀원","박찬영","여","동국대학교","가정교육과",4,"성남시 분당구","경기","단거리"]
[{"$nulls":7},"팀원","이승민","여","홍익대학교","판화과",4,"서울시 강북구","서울","단거리"]
[{"$nulls":7},"팀원","홍성환","남","동국대학교","수학교육과",1,"서울시 서초구","서울","단거리"]
[17,"서울","중","천호중학교","강희선","070-4311-0964","꿈이뭐조","팀장","심유리","여","성신여자대학교","통계학과",4,"서울시 성북구","서울","단거리"]
[{"$nulls":7},"팀원","경민주","여","숙명여자대학교","화학과",4,"서울시 은평구","서울","단거리"]
[{"$nulls":7},"팀원","장두영","남","연세대학교","토목환경공학과",4,"서울시 서대문구","서울","단거리"]
[{"$nulls":7},"팀원","김진실","여","성균관대학교"," 교육대학원 수학교육전공","3기","서울시 종로구","서울","단거리"]
[{"$nulls":7},"팀원","하현주","여","경남대학교","가정교육과",3,"부산시 해운대구","부산","중/장거리"]
[{"$nulls":7},"팀원","이지윤","여"," 연세대학교","환경공학부",1,"경기도 고양시","경기","단거리"]
[18,"서울","고","대원여자고등학교","박혜연","02-2204-1616","CRACKER","팀장","조영슬","여","한양대학교","응용화학과",2,"경기도 안산시 단원구","경기","단거리"]
[{"$nulls":7},"팀원","김홍덕","남","한양대학교","기계공학과",2,"대구광역시 동구","대구","중/장거리"]
[{"$nulls":7},"팀원","정지혜","여","한양대학교","응용화학과",1,"경기도 수원시 영통구","경기","단거리"]
[{"$nulls":7},"팀원","이재호","남","한양대학교","전자공학부",1,"경기도 안산시 상록구","경기","단거리"]
[{"$nulls":7},"팀원","윤민아","여","한양대학교","응용화학과",1,"경기도 안산시 상록구","경기","단거리"]
[{"$nulls":7},"팀원","이해빈","여","한양대학교","응용화학과",2,"경기도 시흥시","경기","단거리"]
[19,"서울","고","숭의여자고등학교","윤영기","02-810-7874","OAO","팀장","오주영","남","중앙대학교","물리학과",4,"서울시 강서구 염창동","서울","단거리"]
[{"$nulls":7},"팀원","조진경","여","중앙대학교","물리학과",1,"용인시 기흥구","경기","단거리"]
[{"$nulls":7},"팀원","김정은","여","중앙대학교","생명과학과",2,"인천시 부평구","인천","단거리"]
[{"$nulls":7},"팀원","이민주","여","중앙대학교","생명과학과",3,"경기도 김포시","경기","단거리"]
[{"$nulls":7},"팀원","한정호","남","중앙대학교","화학과",3,"경기도 구리시","경기","단거리"]
[{"$nulls":7},"팀원","정미희","여","중앙대학교","물리학과",2,"서울시 동작구 흑석동","서울","단거리"]
[20,"서울","고","은광여자고등학교","안민희","02-3462-2005","찜!","팀원","강아현","여","숭실대학교","기계공학과",2,"서울시 동작구","서울","단거리"]
[{"$nulls":7},"팀원","김예람","여","서울여자대학교","멀티미디어학과",1,"경기도 부천시","경기","단거리"]
[{"$nulls":7},"팀원","이경찬","남","성균관대학교","컴퓨터교육과",2,"서울시 영등포구","서울","단거리"]
[{"$nulls":7},"팀원","이하은","여","경기대학교","유아교육학과",1,"인천 광역시","인천","단거리"]
[{"$nulls":7},"팀원","정예지","여","경기대학교","영어영문학과",1,"경기도 화성시","경기","단거리"]
[{"$nulls":7},"팀장","정혜라","여","한양대학교","영미언어문화학과",2,"안산시 상록구","경기","단거리"]
[21,"서울","고","인창고등학교","노동규","02-365-8053","청포도","팀장","함성보","여","선문대학교","신소재공학과",3,"서울시 서대문구","서울","단거리"]
[{"$nulls":7},"팀원","박종현","남","한양대학교","생명과학과",2,"부천시 원미구","경기","단거리"]
[{"$nulls":7},"팀원","김수영","여","광운대학교","전자융합공학과",1,"인천시 서구","인천","단거리"]
[{"$nulls":7},"팀원","장성민","남","한양대학교","생명과학과",1,"서울시 서대문구","서울","단거리"]
[{"$nulls":7},"팀원","노지은","여","서울과학기술대학교","기계시스템디자인공학과",1,"인천시 서구","인천","단거리"]
[{"$nulls":7},"팀원","김경민","남","한양대학교","생명과학과",1,"서울시 성동구","서울","단거리"]
[22,"서울","고","풍문여자고등학교","조용현","02-732-5574","My Bottle (마이벗뜰)","팀장","김태윤","여","이화여자대학교","과학교육과 물리교육",2,"서울시 마포구","서울","단거리"]
[{"$nulls":7},"팀원","이승연","여","이화여자대학교","뇌인지과학과",1,"서울시 서대문구","서울","단거리"]
[{"$nulls":7},"팀원","하은진","여","이화여자대학교","과학교육과 화학교육",2,"서울시 서대문구","서울","단거리"]
[{"$nulls":7},"팀원","이지영","여","이화여자대학교","과학교육과",2,"서울시 영등포구","서울","단거리"]
[{"$nulls":7},"팀원","김지완","여","이화여자대학교 "," 정치외교학과",2,"서울시 강서구","서울","단거리"]
[{"$nulls":7},"팀원","신승희","여","이화여자대학교 "," 생명과학과",2,"서울시 마포구","서울","단거리"]
[23,"부산","초","사남초등학교","김윤주","051-260-0400","열정! 영맨~","팀장","유건우","남","부산대학교","건축학(5년)",1,"부산시 금정구","부산","단거리"]
[{"$nulls":7},"팀원","이주영","여","부경대학교","식품공학과",1,"부산시 부산진구","부산","단거리"]
[{"$nulls":7},"팀원","천정원","여","부경대학교","행정학과",1,"부산시 남구","부산","단거리"]
[{"$nulls":7},"팀원","이지원","여","부경대학교","식품공학과",1,"부산시 남구","부산","단거리"]
[{"$nulls":7},"팀원","김예리","여","부경대학교","식품공학과",1,"부산시 금정구","부산","단거리"]
[{"$nulls":7},"팀원","김민정","여","부경대학교","행정학과",1,"부산시 남구","부산","단거리"]
[24,"부산","초","상당초등학교","이명숙","051-709-1014","식스팀(Six Team)","미기재","이채민","남","동아대학교","전자공학과",2,"부산","부산","단거리"]
[{"$nulls":7},"미기재","하진희","여","동아대학교","화학과",2,"김해","경남","단거리"]
[{"$nulls":7},"미기재","이동건","남","동아대학교","전자공학과",2,"부산","부산","단거리"]
[{"$nulls":7},"미기재","김민지","여","동아대학교","기계공학과",2,"부산","부산","단거리"]
[{"$nulls":7},"미기재","변상준","남","동아대학교","신소재공학과",2,"부산","부산","단거리"]
[{"$nulls":7},"미기재","김기명","남","동아대학교","전기공학과",2,"부산","부산","단거리"]
[25,"부산","초","천마초등학교","양정인","051-250-6776","도담도담","미기재","노민우","남","부산교육대학교","수학교육과",2,"부산시 연제구","부산","단거리"]
[{"$nulls":7},"미기재","도예주","여","부산교육대학교","수학교육과",2,"부산시 금정구","부산","단거리"]
[{"$nulls":7},"미기재","오해송","여","부산교육대학교","수학교육과",2,"부산시 진구","부산","단거리"]
[{"$nulls":7},"미기재","정유라","여","부산교육대학교","수학교육과",2,"부산시 남구","부산","단거리"]
[{"$nulls":7},"미기재","노경호","남","부산교육대학교","수학교육과",2,"부산시 연제구","부산","단거리"]
[{"$nulls":7},"미기재","성채원","남","부산교육대학교","수학교육과",2,"부산시 연제구","부산","단거리"]
[26,"부산","중","가락중학교","김원정","051-899-0842","포항촌놈들","팀장","정성욱","남","포항공과대학교","산업경영공학과",2,"근처숙소",null,"장거리"]
[{"$nulls":7},"팀원","이용우","남","포항공과대학교","전자전기공학과",2,"근처숙소",null,"장거리"]
[{"$nulls":7},"팀원","최재민","남","포항공과대학교","기계공학과",2,"근처숙소",null,"장거리"]
[{"$nulls":7},"팀원","김지오","남","포항공과대학교","화학공학과",2,"근처숙소",null,"장거리"]
[{"$nulls":7},"팀원","홍지국","남","포항공과대학교","기계공학과",2,"근처숙소",null,"장거리"]
[{"$nulls":7},"팀원","이희상","남","포항공과대학교","전자전기공학과",2,"근처숙소",null,"장거리"]
[27,"대구","초","대구장기초등학교","신지승","053-234-4161","애교지존","팀장","신용길","남","경북대학교","에너지공학부",2,"대구 수성구","대구","단거리"]
[{"$nulls":7},"팀원","조혜진","여","경북대학교","에너지공학부",3,"대구 달서구","대구","단거리"]
[{"$nulls":7},"팀원","이승희","여","대구교육대학교","체육심화전공",1,"대구남구","대구","단거리"]
[{"$nulls":7},"팀원","김민주","여","대구교육대학교","체육심화전공",1,"대구남구","대구","단거리"]
[{"$nulls":7},"팀원","한규성","남","대구교육대학교","국어심화전공",1,"대구남구","대구","단거리"]
[28,"대구","초","대구지묘초등학교","김헌운","053-232-2274","E.E.E","팀장","주휘성","남","경북대학교","기계공학과",4,"대구시 북구","대구","단거리"]
[{"$nulls":7},"팀원","조영준","남","경북대학교","기계공학과",4,"대구시 북구","대구","단거리"]
[{"$nulls":7},"팀원","김완수","남","경북대학교","천문대기과학과",4,"대구시 달서구","대구","단거리"]
[{"$nulls":7},"팀원","신혜원","여","경북대학교","교육학과",4,"대구시 북구","대구","단거리"]
[{"$nulls":7},"팀원","이지은","여","경북대학교","일반대학원 교육학과",1,"대구시 달서구","대구","단거리"]
[{"$nulls":7},"팀원","이경민","여","대구보건대학","간호학과",1,"상주시 합창읍","경북","단거리"]
[29,"대구","중","서남중학교","김동영","02-233-7810","E판師판","팀장","주병규","남","경북대학교","전자공학부",2,"대구시 북구","대구","단거리"]
[{"$nulls":7},"팀원","김진곤","남","경북대학교","전자공학부",2,"대구시 중구","대구","단거리"]
[{"$nulls":7},"팀원","이우형","남","경북대학교","전자공학부",2,"대구시 동구","대구","단거리"]
[{"$nulls":7},"팀원","손혜영","여","경북대학교","전자공학부",2,"대구시 북구","대구","단거리"]
[{"$nulls":7},"팀원","허영현","남","경북대학교","전자공학부",2,"대구시 북구","대구","단거리"]
[{"$nulls":7},"팀원","장주은","여","경북대학교","전자공학부",2,"대구시 북구","대구","단거리"]
[30,"대구","중","서진중학교","장혜천","053-233-7857","무지개","팀장","김수현","여","대구대학교","화학교육과",3,"경산","경북","단거리"]
[{"$nulls":7},"팀원","현정애","여","대구대학교","화학교육과",3,"대구","대구","단거리"]
[{"$nulls":7},"팀원","이혜진","여","대구가톨릭대학교","수학교육과",3,"대구","대구","단거리"]
[{"$nulls":7},"팀원","박민정","여","대구대학교","회계학과",4,"대구","대구","단거리"]
[{"$nulls":7},"팀원","오예림","여","경일대학교","심리치료학과",3,"대구","대구","단거리"]
[{"$nulls":7},"팀원","우지현","여","영남대학교","유아교육과",2,"대구","대구","단거리"]
[31,"대구","고","상인고등학교","배태윤","053-231-5195","과학이홍익인간","팀장","김전수","남","대구대학교","물리교육과",3,"경산시 하양읍","경북","단거리"]
[{"$nulls":7},"팀원","윤준수","남","대구대학교","물리교육과",3,"경산시 하양읍","경북","단거리"]
[{"$nulls":7},"팀원","선우경","여","대구대학교","물리교육과",1,"대구시 동구","대구","단거리"]
[{"$nulls":7},"팀원","김일삼","남","대구대학교","물리교육과",1,"대구시 동구","대구","단거리"]
[{"$nulls":7},"팀원","차지원","남","대구대학교","물리교육과",1,"대구시 동구","대구","단거리"]
[{"$nulls":7},"팀원","장효정","여","대구대학교","물리교육과",1,"대구시 동구","대구","단거리"]
[32,"인천","중","인천석남중학교","임상현","032-584-1831","파스타","팀장","김지수","여","중앙대학교","생명과학과(교직이수)",4,"수원시 장안구","경기","단거리"]
[{"$nulls":7},"팀원","오현지","여","고려대학교","미디어학부",1,"인천시 남동구","인천","단거리"]
[{"$nulls":7},"팀원","안슬기","여","인하대학교","교육학과",2,"성남시 분당구","경기","단거리"]
[{"$nulls":7},"팀원","이상우","남","서울시립대학교","생명과학과",1,"서울시 동대문구","서울","단거리"]
[{"$nulls":7},"팀원","이인우","여","인하대학교","교육학과",1,"인천시 중구","인천","단거리"]
[{"$nulls":7},"팀원","조유나","여","서울시립대학교","도시행정학과",1,"서울시 동대문구","서울","단거리"]
[33,"광주","중","숭의중학교","박성우","062-606-5921","3M (Mentor Makes Men)","팀장","이윤호","남","전남대학교","지리교육과",1,"광주광역시 북구","광주","단거리"]
[{"$nulls":7},"팀원","곽다인","여","전남대학교","고분자융합소재공학부",1,"광주광역시 북구","광주","단거리"]
[{"$nulls":7},"팀원","김다혜","여","전남대학교","사학과",1,"광주광역시 서구","광주","단거리"]
[{"$nulls":7},"팀원","김재헌","남","조선대학교","국어교육과",4,"광주광역시 남구","광주","단거리"]
[{"$nulls":7},"팀원","박미소","여","조선대학교","지구과학교육과",3,"광주광역시 동구","광주","단거리"]
[{"$nulls":7},"팀원","백경빈","여","전남대학교","국어국문학과",1,"광주광역시 동구","광주","단거리"]
[34,"광주","고","조선대학교여자고등학교","김진시","062-220-7550","과드득","팀장","김한솔","여","조선대학교","화학교육과",4,"전남 화순","전남","단거리"]
[{"$nulls":7},"팀원","한승진","남","조선대학교","화학교육과",4,"광주 동구","광주","단거리"]
[{"$nulls":7},"팀원","백규영","여","조선대학교","화학교육과",3,"광주 북구","광주","단거리"]
[{"$nulls":7},"팀원","김지수","남","조선대학교","화학교육과",1,"광주 서구","광주","단거리"]
[{"$nulls":7},"팀원","김한도","남","조선대학교","화학교육과",1,"광주 서구","광주","단거리"]
[{"$nulls":7},"팀원","문주현","여","조선대학교","화학교육과",1,"광주 북구","광주","단거리"]
[{"$nulls":7},"팀원","문희태","남","조선대학교","화학교육과",1,"광주 서구","광주","단거리"]
[35,"대전","초","대전갑천초등학교","김경남","042-488-3323","와야","팀원","신현정","여","충주교육대학교","초등교육",3,"대전","대전","단거리"]
[{"$nulls":7},"팀원","이숙희","여","충주교육대학교","초등교육",2,"청주","충북","단거리"]
[{"$nulls":7},"팀원","전소영","여","충남대학교","기술교육과",3,"대전","대전","단거리"]
[{"$nulls":7},"팀원","김주희","여","충남대학교","기술교육과",2,"대전","대전","단거리"]
[{"$nulls":7},"팀장","강민송","여","충남대학교","기술교육과",2,"대구","대구","단거리"]
[{"$nulls":7},"팀원","김이정","여","충남대학교","기술교육과",1,"대전","대전","단거리"]
[36,"대전","초","대전금동초등학교","이선민","042-542-3331","AcTive","팀원","윤영섭","남","충남대학교","환경공학과",1,"대전시 서구","대전","단거리"]
[{"$nulls":7},"팀장","김기환","남","충남대학교","컴퓨터공학과",1,"대구시 수성구","대구","단거리"]
[{"$nulls":7},"팀원","김종완","남","충남대학교","경영학과",1,"대전시 동구","대전","단거리"]
[{"$nulls":7},"팀원","안수민","여","충남대학교","환경공학과",1,"대전시 중구","대전","단거리"]
[{"$nulls":7},"팀원","정구아","여","충남대학교","컴퓨터공학과",1,"대전시 서구","대전","단거리"]
[{"$nulls":7},"팀원","정귀주","여","충남대학교","일어일문학과",1,"수원시 권선구","경기","중/장거리"]
[37,"대전","초","학하초등학교","백지현","042-825-0525","디딤돌","팀장","이승종","남","한국과학기술원","전기및전자공학과",3]
[{"$nulls":7},"팀원","권용석","남","한국과학기술원","전산학과",3]
[{"$nulls":7},"팀원","배준한","남","한국과학기술원","기계공학과",2]
[{"$nulls":7},"팀원","최혜민","여","한국과학기술원","생명및화학공학과",2]
[{"$nulls":7},"팀원","정명근","남","한국과학기술원","무학과",1]
[{"$nulls":7},"팀원","채용재","남","한국과학기술원","원자력및양자공학과",2]
[38,"대전","초","진잠초등학교","이창무","042-543-3072","칵테일","팀장","박지수","여","우송대학교","미디어디자인학부",3,"대전시 동구","대전","단거리"]
[{"$nulls":7},"팀원","김혜은","여","우송대학교","미디어디자인학부",3,"대전시 서구","대전","단거리"]
[{"$nulls":7},"팀원","전보라","여","우송대학교","외식조리학부",3,"대전시 동구","대전","단거리"]
[{"$nulls":7},"팀원","박기쁨","남","우송대학교","외식조리학부",3,"의정부시 자일동","경기","중/장거리"]
[{"$nulls":7},"팀원","신유리","여","우송대학교","호텔관광경영학과",3,"대전시 동구","대전","단거리"]
[{"$nulls":7},"팀원","민가령","여","우송대학교","호텔관광경영학과",3,"대전시 유성구","대전","단거리"]
[39,"대전","중","대전남선중학교","윤철용","042-488-1338","Burn Young","팀장","오인석","남","충남대학교","수학교육과",3,"대전 동구 용운동","대전","단거리"]
[{"$nulls":7},"팀원","김예지","여","충남대학교","경영학부",3,"대전 유성구 구암동","대전","단거리"]
[{"$nulls":7},"팀원","이은아","여","금강대학교","사회복지학과",3,"대전 유성구 궁동","대전","단거리"]
[{"$nulls":7},"팀원","김나리","여","한남대학교","경영학과",2,"대전 대덕구 오정동","대전","단거리"]
[{"$nulls":7},"팀원","배찬형","남","충남대학교","경영학부",2,"대전 유성구 궁동","대전","단거리"]
[{"$nulls":7},"팀원","임유성","남","충남대학교","경영학부",2,"대전 대덕구 송촌동","대전","단거리"]
[40,"대전","중","대전봉우중학교","조성옥","042-543-7322","충멋이들","팀장","이채형","남","충남대학교","환경공학과","1학년","울산광역시 울주군","울산","중/장거리"]
[{"$nulls":7},"팀원","강혜림","여","충남대학교","환경공학과","1학년","경기도 수원시","경기","중/장거리"]
[{"$nulls":7},"팀원","문명일","남","충남대학교","물리학과","2학년","제주도 서귀포시","제주","중/장거리"]
[{"$nulls":7},"팀원","정원지","여","충남대학교","물리학과","1학년","충남 아산시","충남","중/장거리"]
[{"$nulls":7},"팀원","박혜진","여","충남대학교","천문우주학과","1학년","경남 창원시","경남","중/장거리"]
[{"$nulls":7},"팀원","신미선","여","충남대학교","전자공학과","1학년","대전광역시 서구","대전","단거리"]
[41,"경기","초","갈곶초등학교","장민수","031-372-5122","비타민","팀장","최미현","여","단국대학교","환경원예학과",2,"안양","경기","단거리"]
[{"$nulls":7},"팀원","김혜리","여","단국대학교","화학과",2,"성남","경기","단거리"]
[{"$nulls":7},"팀원","이유나","여","단국대학교","환경원예학과",2,"안양","경기","단거리"]
[{"$nulls":7},"팀원","이수연","여","단국대학교","환경원예학과",2,"성남","경기","단거리"]
[{"$nulls":7},"팀원","최동훈","남","단국대학교","환경원예학과",2,"수원","경기","단거리"]
[{"$nulls":7},"팀원","이서현","여","단국대학교","환경원예학과",2,"수원","경기","단거리"]
[42,"경기","초","광주매곡초등학교","주희철","031-766-4146","시리우스","팀장","김정삼","남","충북대학교","지구과학교육과",2,"청주","충북","단거리"]
[{"$nulls":7},"팀원","김소연","여","충북대학교","지구과학교육과",2,"청주","충북","단거리"]
[{"$nulls":7},"팀원","이은비","여","충북대학교","지구과학교육과",2,"대전","대전","중/장거리"]
[{"$nulls":7},"팀원","고경민","여","충북대학교","지구과학교육과",2,"청주","충북","단거리"]
[{"$nulls":7},"팀원","이상원","남","충북대학교","지구과학교육과",1,"청주","충북","단거리"]
[{"$nulls":7},"팀원","박휘민","남","충북대학교","지구과학교육과",1,"청주","충북","단거리"]
[43,"경기","초","평택성동초등학교","정진숙","070-4490-3022","운김","팀장","김예은","여","춘천교육대학교","초등교육과 사회과",2,"서울시 영등포구","서울","단거리"]
[{"$nulls":7},"팀원","이준수","남","춘천교육대학교","초등교육과 사회과",2,"성남시 수정구","경기","단거리"]
[{"$nulls":7},"팀원","최진윤","여","춘천교육대학교","초등교육과 사회과",2,"서울시 송파구","서울","단거리"]
[{"$nulls":7},"팀원","염민우","남","춘천교육대학교","초등교육과 사회과",2,"춘천시 석사동","강원","중/장거리"]
[{"$nulls":7},"팀원","이다은","여","춘천교육대학교","초등교육과 사회과",2,"인천시 부평구","인천","단거리"]
[{"$nulls":7},"팀원","김다희","여","춘천교육대학교","초등교육과 사회과",2,"서울시 동작구","서울","단거리"]
[44,"경기","초","화성반월초등학교","황지현","031-548-4246","위알어팀","팀장","이예진","여","이화여자대학교","화학생명분자과학부",1,"경기도 안산","경기","단거리"]
[{"$nulls":7},"팀원","정현희","여","이화여자대학교","화학생명분자과학부",1,"경기도 수원","경기","단거리"]
[{"$nulls":7},"팀원","전혜빈","여","서울대학교","간호학과",1,"경기도 수원","경기","단거리"]
[{"$nulls":7},"팀원","최윤희","여","명지대학교","환경에니지공학과",1,"경기도 수원","경기","단거리"]
[{"$nulls":7},"팀원","김미나","여","수원과학대학교","치위생학과",1,"경기도 화성","경기","단거리"]
[{"$nulls":7},"팀원","이현지","여","세종대학교","수학통계학부",1,"경기도 수원","경기","단거리"]
[45,"경기","중","구갈중학교","박지영","031-283-8345","STEAM너나들이","팀장","이홍목","남","단국대학교","수학교육과",3,"용인시 수지구","경기","단거리"]
[{"$nulls":7},"팀원","김재경","남","단국대학교","과학교육과",3,"용인시 수지구","경기","단거리"]
[{"$nulls":7},"팀원","최정민","여","단국대학교","수학교육과",2,"용인시 수지구","경기","단거리"]
[{"$nulls":7},"팀원","이지은","여","단국대학교","수학교육과",2,"용인시 수지구","경기","단거리"]
[{"$nulls":7},"팀원","오지은","여","단국대학교","수학교육과",1,"서울시 관악구","서울","단거리"]
[{"$nulls":7},"팀원","전윤서","여","단국대학교","수학교육과",1,"수원시 장안구","경기","단거리"]
[46,"경기","중","남문중학교","곽윤범","031-863-3837","Chef","팀장","최규환","남","경희대학교","화학공학과",2,"인천시 남동구","인천","단거리"]
[{"$nulls":7},"팀원","경우현","여","경희대학교","화학공학과",2,"경기도 용인시 기흥구","경기","단거리"]
[{"$nulls":7},"팀원","이하은","여","경희대학교","화학공학과",3,"경기도 수원시 영통구","경기","단거리"]
[{"$nulls":7},"팀원","김동호","남","경희대학교","화학공학과",1,"인천시 중구","경기","단거리"]
[{"$nulls":7},"팀원","안현진","여","경희대학교","화학공학과",1,"경기도 용인시 처인구","경기","단거리"]
[{"$nulls":7},"팀원","김경민","여","경희대학교","화학공학과",1,"대구시 서구","대구","중/장거리"]
[47,"경기","중","오산중학교","김어진","031-371-9000","이끼","팀장","박예은","여","서울여자대학교","콘텐츠디자인하과",1,"서울시 관악구","서울","단거리"]
[{"$nulls":7},"팀원","신서연","여","서울여자대학교","사학과",4,"서울시 강동구","서울","단거리"]
[{"$nulls":7},"팀원","조현민","여","서울여자대학교","문헌정보학과",4,"경기도 부천","경기","단거리"]
[{"$nulls":7},"팀원","김하은","여","중앙대학교","국어국문학과",1,"서울시 동작구","서울","단거리"]
[{"$nulls":7},"팀원","김은성","여","중앙대학교","국어국문학과",1,"경기도 남양주","경기","단거리"]
[{"$nulls":7},"팀원","정나윤","여","중앙대학교","국어국문학과",1,"서울시 동작구","서울","단거리"]
[48,"경기","고","동화고등학교","이경희","031-563-2558","스타트","팀장","이수지","여","가천대학교","패션디자인과",2,"서울시 광진구 군자동 349-7","서울","단거리"]
[{"$nulls":7},"팀원","이수연","여","세종대학교","정보통신공학과",3,"서울시 광진구 군자동 349-7","서울","단거리"]
[{"$nulls":7},"팀원","이해경","여","서울시립대학교","건축공학과",2,"동대문구 휘경동 293-162","서울","단거리"]
[{"$nulls":7},"팀원","최정민","남","가천대학교","응용통계학과",2,"서울시 광진구 자양동","서울","단거리"]
[{"$nulls":7},"팀원","이신규","남","가천대학교","전기공학과",2,"안산시 단원구 당곡3로 701동 804호","경기","단거리"]
[49,"경기","고","복정고등학교","최윤희","031-720-1737","스팀앤탐스(STEAM & TOMS)","팀장","정성범","남","단국대학교","과학교육과",3,"용인시 수지구","경기","단거리"]
[{"$nulls":7},"팀원","김유연","여","단국대학교","과학교육과",3,"용인시 기흥구","경기","단거리"]
[{"$nulls":7},"팀원","김보리","여","단국대학교","과학교육과",2,"용인시 수지구","경기","단거리"]
[{"$nulls":7},"팀원","이영재","남","단국대학교","과학교육과",2,"경기도 하남시","경기","단거리"]
[{"$nulls":7},"팀원","이원민","여","단국대학교","과학교육과",2,"서울시 서초구","서울","단거리"]
[{"$nulls":7},"팀원","이유정","여","단국대학교","과학교육과",2,"수원시 영통구","경기","단거리"]
[50,"경기","고","시흥매화고등학교","강선화","031-365-8442","메타몽","팀장","백승혁","남","전주대학교","과학교육과(화학)",1,"전라북도 전주시","전북","중/장거리"]
[{"$nulls":7},"팀원","김재현","남","전주대학교","과학교육과(공통과학)",4,"전라북도 전주시","전북","중/장거리"]
[{"$nulls":7},"팀원","김세중","남","전주대학교","과학교육과(물리)",2,"전라북도 전주시","전북","중/장거리"]
[{"$nulls":7},"팀원","김예림","여","전주대학교","과학교육과(물리)",2,"전라남도 완도군","전북","중/장거리"]
[{"$nulls":7},"팀원","김미경","여","전주대학교","과학교육과(물리)",1,"전라북도 전주시","전북","중/장거리"]
[{"$nulls":7},"팀원","이순미","여","전주대학교","과학교육과(화학)",1,"경기도 포천시","경기","단거리"]
[51,"경기","고","와부고등학교","김동춘","031-579-6616","상상력","팀장","임수빈","여","경희대학교","화학공학과",2,"경기도 남양주시","경기","단거리"]
[{"$nulls":7},"팀원","송다혜","여","광운대학교","전자공학과",2,"경기도 의정부시","경기","단거리"]
[{"$nulls":7},"팀원","전혜영","여","경희대학교","수학과",2,"경기도 남양주시","경기","단거리"]
[{"$nulls":7},"팀원","김민영","여","성균관대학교","공학계열",1,"경기도 수원시","경기","단거리"]
[{"$nulls":7},"팀원","류은선","여","연세대학교","환경공학과",1,"경기도 남양주시","경기","단거리"]
[{"$nulls":7},"팀원","이수빈","여","한양대학교","자원환경공학과",1,"인천광역시","인천","단거리"]
[52,"경기","고","일산동고등학교","주상희","031-929-3581","더알려조","팀장","박하은","여","홍익대학교","전자전기공학부",2,"서울시 마포구","서울","단거리"]
[{"$nulls":7},"팀원","손지은","여","홍익대학교","전자전기공학부",2,"서울시 구로구","서울","단거리"]
[{"$nulls":7},"팀원","박서현","여","홍익대학교","전자전기공학부",2,"서울시 광진구","서울","단거리"]
[{"$nulls":7},"팀원","황지영","여","홍익대학교","전자전기공학부",2,"서울시 마포구","서울","단거리"]
[{"$nulls":7},"팀원","윤상운","남","홍익대학교","전자전기공학부",2,"경기도 안양시 동안구","경기","단거리"]
[{"$nulls":7},"팀원","이종혁","남","홍익대학교","전자전기공학부",2,"서울시 양천구","서울","단거리"]
[53,"경기","고","천천고등학교","이승용","031-249-6743","포스콜","팀장","손세희","여","포항공대","물리",1,"성남시 분당구","경기","단거리"]
[{"$nulls":7},"팀원","안신우","남","포항공대","수학",1,"서울시 강남구","서울","단거리"]
[54,"경기","고","풍덕고등학교","박태환","031-218-0580","싸멘(싸이언스 멘토)","팀장","유시연","여","성신여자대학교","화학과",3,"남양주시 와부읍","경기","단거리"]
[{"$nulls":7},"팀원","고은서","여","가천대학교","식품영양학과",1,"남양주시 와부읍","경기","단거리"]
[{"$nulls":7},"팀원","고은채","여","서울과학기술대학교","건축공학과",3,"남양주시 와부읍","경기","단거리"]
[{"$nulls":7},"팀원","김미진","여","서울시립대학교","컴퓨터공학과",3,"서울특별시 강동구","서울","단거리"]
[{"$nulls":7},"팀원","윤주영","여","숙명여자대학교","나노물리학과",3,"남양주시 와부읍","경기","단거리"]
[{"$nulls":7},"팀원","현유경","여","서울시립대학교","통계학과",3,"하남시 신장동","경기","단거리"]
[55,"강원","고","봉의고등학교","안경선","033-815-0327","플레어","팀장","심정승","남","충북대학교","지구과학교육과",3,"충북 청주시","충북","중/장거리"]
[{"$nulls":7},"팀원","이정흔","남","충북대학교","지구과학교육과",3,"충북 청주시","충북","중/장거리"]
[{"$nulls":7},"팀원","유재용","남","충북대학교","지구과학교육과",2,"충북 청주시","충북","중/장거리"]
[{"$nulls":7},"팀원","임철완","남","충북대학교","지구과학교육과",3,"충북 청주시","충북","중/장거리"]
[{"$nulls":7},"팀원","김정수","남","충북대학교","지구과학교육과",3,"충북 청주시","충북","중/장거리"]
[56,"충남","초","수정초등학교","정철","041-942-3503","늘벗","팀장","최광수","남","한밭대학교","생산가공학과",3,"대전시 유성구","대전","단거리"]
[{"$nulls":7},"팀원","유영선","여","충남대학교","기술교육학과",3,"대전시 유성구","대전","단거리"]
[{"$nulls":7},"팀원","박보선","여","충남대학교","기술교육학과",3,"대전시 유성구","대전","단거리"]
[{"$nulls":7},"팀원","류시화","여","충남대학교","기술교육학과",3,"천안시 동남구","충남","단거리"]
[{"$nulls":7},"팀원","김민정","여","충남대학교","생물과학과",3,"대전시 서구","대전","단거리"]
[{"$nulls":7},"팀원","김택진","남","대전대학교","건축학과",2,"대전시 동구","대전","단거리"]
[57,"충남","초","공주금학초등학교","소재석","041-854-2050","쑥쑥자라라","팀장","라민영","여","공주대학교","국어교육과",3,"대전","대전","단거리"]
[{"$nulls":7},"팀원","조예슬","여","공주대학교","국어교육과",3,"공주","충남","단거리"]
[{"$nulls":7},"팀원","오영주","여","공주대학교","일반사회교육과",3,"공주","충남","단거리"]
[{"$nulls":7},"팀원","유강식","남","공주대학교","일반사회교육과",3,"공주","충남","단거리"]
[{"$nulls":7},"팀원","권혜숙","여","공주대학교","국어교육과",2,"공주","충남","단거리"]
[{"$nulls":7},"팀원","좌은정","여","공주대학교","국어교육과",2,"공주","충남","단거리"]
[58,"충남","초","공주중동초등학교","윤준식","041-853-2038","믹스팀(Mix STEAM)","팀장","윤수한","남","공주교육대학교","초등교육과(과학)",1,"충남 공주시","충남","단거리"]
[{"$nulls":7},"팀원","봉준성","남","공주교육대학교","초등교육과(과학)",1,"충남 공주시","충남","단거리"]
[{"$nulls":7},"팀원","오혜민","여","공주교육대학교","초등교육과(과학)",1,"충남 공주시","충남","단거리"]
[{"$nulls":7},"팀원","박영식","남","공주교육대학교","초등교육과(과학)",1,"충남 공주시","충남","단거리"]
[{"$nulls":7},"팀원","이승민","남","공주교육대학교","초등교육과(과학)",1,"충남 공주시","충남","단거리"]
[{"$nulls":7},"팀원","이주연","여","공주교육대학교","초등교육과(과학)",1,"충남 공주시","충남","단거리"]
[59,"충남","초","남양초등학교","조영민","041-942-1901","STARDUST","팀장","김지형","남","한국기술교육대","메카트로닉스 공학부",2,"천안시 동남구","충남","단거리"]
[{"$nulls":7},"팀원","박태수","남","한국기술교육대","메카트로닉스 공학부",2,"천안시 동남구","충남","단거리"]
[{"$nulls":7},"팀원","송낙현","남","한국기술교육대","메카트로닉스 공학부",2,"천안시 동남구","충남","단거리"]
[{"$nulls":7},"팀원","윤도형","남","한국기술교육대","메카트로닉스 공학부",2,"천안시 동남구","충남","단거리"]
[{"$nulls":7},"팀원","이우석","남","한국기술교육대","메카트로닉스 공학부",2,"천안시 동남구","충남","단거리"]
[{"$nulls":7},"팀원","정민수","남","한국기술교육대","메카트로닉스 공학부",2,"천안시 동남구","충남","단거리"]
[60,"충남","초","서면초등학교","박병찬","041-951-7578","여고식스","팀장","김윤희","여","초당대학교","간호학과",1,"서천군 서천읍","충남","단거리"]
[{"$nulls":7},"팀원","이지영","여","계원예술대학교","리빙디자인과",1,"서천군 서천읍","충남","단거리"]
[{"$nulls":7},"팀원","남다정","여","충북대학교","전자공학부",1,"서천군 서천읍","충남","단거리"]
[{"$nulls":7},"팀원","김서연","여","대전대학교","환경공학과",1,"서천군 서천읍","충남","단거리"]
[{"$nulls":7},"팀원","양소현","여","대전과학기술대학교","물리치료학과",1,"서천군 서천읍","충남","단거리"]
[{"$nulls":7},"팀원","신설연","여","남서울대학교","보건행정학과",1,"서천군 서천읍","충남","단거리"]
[61,"충남","초","수덕초등학교","류지웅","041-337-6070","아띠","팀장","이지원","여","충남대학교","경영학부",2,"대전시 유성구","대전","중/장거리"]
[{"$nulls":7},"팀원","임채정","여","충남대학교","경영학부",2,"대전시 서구","대전","중/장거리"]
[{"$nulls":7},"팀원","허정윤","여","충남대학교","영어영문학과",2,"대전시 중구","대전","중/장거리"]
[{"$nulls":7},"팀원","김예린","여","충남대학교","화학과",2,"대전시 유성구","대전","중/장거리"]
[{"$nulls":7},"팀원","정은이","여","충남대학교","건설공학교육과",2,"대전시 동구","대전","중/장거리"]
[{"$nulls":7},"팀원","정혜진","여","한남대학교","수학교육과",2,"대전시 동구","대전","중/장거리"]
[62,"충남","초","인세초등학교","최재현","041-833-0191","곤줄박이","팀장","김혜진","여","공주대학교","생물교육학과",1,"충남 서천군 장항읍","충남","단거리"]
[{"$nulls":7},"팀원","문선영","여","공주대학교","생물교육학과",1,"충남 천안시 청수동","충남","단거리"]
[{"$nulls":7},"팀원","박선영","여","공주대학교","생물교육학과",1,"경북 구미시 사곡동","경북","중/장거리"]
[{"$nulls":7},"팀원","박해나","여","공주대학교","생물교육학과",1,"경기 부천시 소사구","경기","중/장거리"]
[{"$nulls":7},"팀원","배유미","여","공주대학교","생물교육학과",1,"충남 공주시 반포면","충남","단거리"]
[{"$nulls":7},"팀원","백지은","여","공주대학교","생물교육학과",1,"경북 칠곡군 북삼읍","경북","중/장거리"]
[63,"충남","고","논산고등학교","서은희","041-734-3496","steamap","팀장","이규림","여","전북대학교","한약자원학과",1,"전주시 덕진구","전주","단거리"]
[{"$nulls":7},"팀원","고민선","여","전북대학교","한약자원학과",1,"전주시 덕진구","전주","단거리"]
[{"$nulls":7},"팀원","김종선","남","전북대학교","한약자원학과",2,"전주시 덕진구","전주","단거리"]
[{"$nulls":7},"팀원","박해리","여","전북대학교","한약자원학과",1,"전주시 덕진구","전주","단거리"]
[{"$nulls":7},"팀원","정태민","남","전북대학교","한약자원학과",1,"전주시 덕진구","전주","단거리"]
[{"$nulls":7},"팀원","이용균","남","전북대학교","한약자원학과",1,"전주시 덕진구","전주","단거리"]
[64,"충남","고","천안고등학교","김원기","041-412-5067","BMLS","팀장","윤기원","남","나사렛대학교","임상병리학과",4,"천안시 서북구","충남","단거리"]
[{"$nulls":7},"팀원","진해란","여","나사렛대학교","임상병리학과",4,"천안시 서북구","충남","단거리"]
[{"$nulls":7},"팀원","박종선","남","나사렛대학교","임상병리학과",4,"천안시 서북구","충남","단거리"]
[{"$nulls":7},"팀원","우성훈","남","나사렛대학교","임상병리학과",3,"천안시 서북구","충남","단거리"]
[{"$nulls":7},"팀원","이경훈","남","나사렛대학교","임상병리학과",3,"천안시 서북구","충남","단거리"]
[{"$nulls":7},"팀원","강다혜","여","나사렛대학교","임상병리학과",3,"천안시 서북구","충남","단거리"]
[65,"전북","초","남원월락초등학교","양수경","063-632-8980","스팀크스","팀장","박주은","여","성균관대학교","공학계열",1,"대전광역시 유성구","대전","중/장거리"]
[{"$nulls":7},"팀원","이재민","남","한밭대학교","정보통신공학",1,"대전광역시 유성구","대전","중/장거리"]
[{"$nulls":7},"팀원","우지선","여","성균관대학교","자연과학계열",1,"대전광역시 유성구","대전","중/장거리"]
[{"$nulls":7},"팀원","원다희","여","한밭대학교","정보통신공학",1,"대전광역시 유성구","대전","중/장거리"]
[{"$nulls":7},"팀원","한대훈","남","한밭대학교","정보통신공학",1,"대전광역시 유성구","대전","중/장거리"]
[{"$nulls":7},"팀원","송유현","남","단국대학교","에너지공학",1,"대전광역시 유성구","대전","중/장거리"]
[66,"전북","초","전주서문초등학교","김소라","063-255-4382","PET","팀장","문영웅","남","충남대학교","기술교육과",3,"대전광역시 유성구","대전","중/장거리"]
[{"$nulls":7},"팀원","윤채은","여","충남대학교","기술교육과",3,"대전광역시 유성구","대전","중/장거리"]
[{"$nulls":7},"팀원","최지수","남","충남대학교","기술교육과",3,"대전광역시 유성구","대전","중/장거리"]
[{"$nulls":7},"팀원","기건","남","충남대학교","기술교육과",3,"대전광역시 유성구","대전","중/장거리"]
[{"$nulls":7},"팀원","김소영","여","충남대학교","기술교육과",1,"대전광역시 유성구","대전","중/장거리"]
[{"$nulls":7},"팀원","박성연","남","충남대학교","기술교육과",3,"대전광역시 유성구","대전","중/장거리"]
[67,"전북","고","전주전일고등학교","유효종","063-239-3010","꿈쟁이","팀장","석정대","남","전주교육대학교","과학교육과",2,"전주시 덕진구","전북","단거리"]
[{"$nulls":7},"팀원","정승연","여","전주교육대학교","수학교육과",3,"전주시","전북","단거리"]
[{"$nulls":7},"팀원","김재원","여","전주대학교","컴퓨터공학과",2,"전주시","전북","단거리"]
[{"$nulls":7},"팀원","정경환","남","전주대학교","컴퓨터공학과",2,"전주시 완산구","전북","단거리"]
[{"$nulls":7},"팀원","양해영","여","전북대학교","통계학과",3,"논산시","충남","단거리"]
[{"$nulls":7},"팀원","이수경","여","대전대학교","간호학과",2,"논산시","충남","단거리"]
[68,"경북","중","도개중학교","정경순","054-474-1052","STEAM클럽","팀장","서현창","남","충북대학","기계공학과",4,"경북 구미시","경북","단거리"]
[{"$nulls":7},"팀원","김주동","남","인천대학","무역학과",1,"경북 구미시","경북","단거리"]
[{"$nulls":7},"팀원","이현택","남","부산대학","기계공학과",2,"경북 구미시","경북","단거리"]
[{"$nulls":7},"팀원","박혜진","여","경북대학","화학교육",2,"대구 수성구","대구","중/장거리"]
[{"$nulls":7},"팀원","서유진","여","서울과학기술대학","건축학과",2,"경북 구미시","경북","단거리"]
[{"$nulls":7},"팀원","박현정","여","경북대학","화학교육",2,"경북 경주시","경북","단거리"]
[69,"경북","중","진성중학교","손윤희","054-874-2004","선생님 수업 빨리 마치죠","팀장","권영기","남","대구대학교","물리교육학과",2,"청송군 안덕면","경북","단거리"]
[{"$nulls":7},"팀원","심종헌","남","대구대학교","물리교육학과",1,"대구광역시 감삼동","대구","중/장거리"]
[{"$nulls":7},"팀원","정기성","남","대구대학교","물리교육학과",1,"구미시 인의동","경북","단거리"]
[{"$nulls":7},"팀원","서유형","남","대구대학교","물리교육학과",1,"경산시 정평동","경북","단거리"]
[{"$nulls":7},"팀원","김지유","여","대구대학교","물리교육학과",1,"대구광역시 달성군 다사읍","대구","중/장거리"]
[{"$nulls":7},"팀원","채영희","여","대구대학교","물리교육학과",1,"대구광역시 용산동","대구","중/장거리"]
[70,"경남","초","덕계초등학교","홍광표","055-366-4171","미래를너희에게","팀장","김준우","남","동국대학교(경주)","가정교육과",4,"경주시 충효동","경북","단거리"]
[{"$nulls":7},"팀원","신희경","여","동국대학교(경주)","가정교육과",3,"경주시 석장동","경북","단거리"]
[{"$nulls":7},"팀원","장재연","여","동국대학교(경주)","가정교육과",3,"경주시 용강동","경북","단거리"]
[{"$nulls":7},"팀원","문주용","남","동국대학교(경주)","신소재 화학과",3,"경주시 석장동","경북","단거리"]
[{"$nulls":7},"팀원","김재현","남","동국대학교(경주)","신소재화학과",2,"부산시 해운대구","부산","단거리"]
[71,"경남","초","무동초","서소혜","055-298-1877","K-IT","팀장","정소향","여","금오공과대학교","전자공학부",2,"경북 구미시","경북","중/장거리"]
[{"$nulls":7},"팀원","노병도","남","금오공과대학교","전자공학부",2,"경북 구미시","경북","중/장거리"]
[{"$nulls":7},"팀원","문영주","여","금오공과대학교","신소재공학부",1,"경북 구미시","경북","중/장거리"]
[{"$nulls":7},"팀원","안소현","여","금오공과대학교","전자공학부",3,"경북 구미시","경북","중/장거리"]
[{"$nulls":7},"팀원","이상민","남","금오공과대학교","전자공학부",2,"경북 구미시","경북","중/장거리"]
[{"$nulls":7},"팀원","이정현","남","금오공과대학교","토목공학과",2,"경북 구미시","경북","중/장거리"]
[72,"경남","초","회원초등학교","전성수","055-248-8802","꿈나무","팀장","박성애","여","대구대학교","물리교육학과",4,"대구시 달서구","대구","단거리"]
[{"$nulls":7},"팀원","박영언","여","대구대학교","물리교육학과",4,"창원시 의창구","경남","단거리"]
[{"$nulls":7},"팀원","정성재","남","대구대학교","물리교육학과",2,"대구시 북구","대구","단거리"]
[{"$nulls":7},"팀원","여가람","남","대구대학교","물리교육학과",2,"거제시 하청면","경남","단거리"]
[{"$nulls":7},"팀원","김수민","여","대구대학교","물리교육학과",2,"포항시 북구","경북","중/장거리"]
[{"$nulls":7},"팀원","주윤경","여","대구대학교","물리교육학과",2,"울산시 중구","울산","단거리"]
[73,"경남","고","물금고등학교","차명선","055-382-1701","피그말리온","팀장","이영훈","남","대구대학교","물리교육학과",3,"대구시 북구","대구","단거리"]
[{"$nulls":7},"팀원","방민서","여","대구대학교","물리교육학과",3,"대구시 수성구","대구","단거리"]
[{"$nulls":7},"팀원","임지원","여","대구대학교","물리교육학과",3,"창원시","경남","단거리"]
[{"$nulls":7},"팀원","구민주","여","대구대학교","물리교육학과",2,"창원시","경남","단거리"]
[{"$nulls":7},"팀원","박용헌","남","대구대학교","물리교육학과",1,"경산시","경북","단거리"]
[{"$nulls":7},"팀원","황지해","여","대구대학교","물리교육학과",1,"대구시 달서구","대구","단거리"]
[74,"경남","고","웅상고등학교","김동현","055-367-8541","대물(대구대학교 물리교육과)","팀장","강병창","남","대구대학교","물리교육전공",3,"경상북도 경산시","경북","단거리"]
[{"$nulls":7},"팀원","김수법","남","대구대학교","물리교육전공",3,"대구광역시 안심","대구","단거리"]
[{"$nulls":7},"팀원","김진수","남","대구대학교","물리교육전공",2,"울산광역시 매곡동","울산","중/장거리"]
[{"$nulls":7},"팀원","이지훈","남","대구대학교","물리교육전공",1,"대구광역시 침산동","대구","단거리"]
[{"$nulls":7},"팀원","김대욱","남","대구대학교","물리교육전공",1,"울산광역시 무거동","울산","중/장거리"]
[{"$nulls":7},"팀원","김왕기","남","대구대학교","물리교육전공",1,"대구광역시 중리동","대구","단거리"]
[75,"경남","고","진교고등학교","진성영","055-882-3164","무지개창창","팀장","배혜린","여","영남대학교","경영학과",2,"대구시 달서구","대구","중/장거리"]
[{"$nulls":7},"팀원","김동현","남","경북대학교","경영학과",1,"대구시 달서구","대구","중/장거리"]
[{"$nulls":7},"팀원","조미진","여","대구대학교","도시행정학과",1,"대구시 달서구","대구","중/장거리"]
[{"$nulls":7},"팀원","허유진","여","영남대학교","일어일문학과",2,"대구시 달서구","대구","중/장거리"]
[{"$nulls":7},"팀원","정수현","여","영남대학교","역사학과",2,"대구시 달서구","대구","중/장거리"]
[{"$nulls":7},"팀원","이태인","여","영남대학교","불어불문학과",2,"대구시 달서구","대구","중/장거리"]
[76,"경남","고","창원신월고등학교","윤은정","055-262-1265","SCV(Science Volunteer)","팀장","방준현","남","대구대학교","물리교육학과",3,"경상북도 구미시 형곡동","경북","중/장거리"]
[{"$nulls":7},"팀원","김재홍","남","대구대학교","물리교육학과",3,"경상북도 경산시 백천동","경북","중/장거리"]
[{"$nulls":7},"팀원","박흥상","남","대구대학교","물리교육학과",2,"경상북도 구미시 임은동","경북","중/장거리"]
[{"$nulls":7},"팀원","장현수","여","대구대학교","물리교육학과",1,"경상북도 칠곡군 약목면","경북","중/장거리"]
[{"$nulls":7},"팀원","맹유진","여","대구대학교","물리교육학과",1,"경상북도 구미시 오태동","경북","중/장거리"]
[{"$nulls":7},"팀원","신은지","여","대구대학교","물리교육학과",1,"경기도 고양시 화정동","경기","중/장거리"]

{"sheet":"2차","index":1,"n_rows":124,"n_cols":27,"rows_kept":124,"cut":false,"hidden":true,"merged":[[0,1,0,25]]}
[null,"2차 매칭(임시)"]
[]
[null,"순번","지역","학교급","학교명","학교주소","운영날짜","수업내용(관련 대학생 전공)","수업학년","수혜학생 실력","희망 대학생 성별","담당교사","학교 연락처","수혜학생 총 수","팀명","구성원","이름","성별","대학","학과","학년","생년월일","연락처(휴대폰)","활동기간 중 \n본인 거주지","단거리/중거리/장거리","2순위","거리"]
[null,1,"서울","고","신일고등학교","서울시 강북구 미아동 솔매로 49","9. 14 ~ 18","매체와 표현, 태양전지와 광물자원, 나선을 이용한 풍력발전기, 화학모형 제작(수학, 과학일반, 화학, 미술)","1학년","중","상관없음","이윤민","010-6313-3074",70,"두부머리","팀장","김동하","남","서울과학\n기술대학교","신소재공학과",2,"95.11.3","010-2521-1487","서울시 강북구","서울","신일고",{"$f":"IF(Y4=$C$4,\"단거리\",\"중/장거리\")","v":"단거리"}]
[{"$nulls":15},"팀원","김태호","남","경희대학교","산업경영공학과",1,"95.11.21","010-9976-3600","수원시 영통구","서울","신일고",{"$f":"IF(Y5=$C$4,\"단거리\",\"중/장거리\")","v":"단거리"}]
[{"$nulls":15},"팀원","강상윤","남","광운대학교","전자융합공학과",1,"96.2.27","010-8521-7510","서울시 강북구","서울","신일고","단거리"]
[{"$nulls":15},"팀원","하정연","남","중앙대학교","에너지시스템공학과",1,"96.1.24","010-3162-7786","서울시 성북구","서울","신일고","단거리"]
[{"$nulls":15},"팀원","이미애","여","광운대학교","환경공학과",2,"95.6.28","010-8005-2413","서울시 강북구","서울","신일고","단거리"]
[{"$nulls":15},"팀원","심정환","남","국민대학교","빅데이터경영통계학과",2,"95.8.14","010-4919-9729","서울시 강북구","서울","신일고","단거리"]
[null,2,"대구","초","대구도림초등학교","대구광역시 달성군 다사읍 서재로26길 94(서재리 32)","9. 7 ~ 11","날씨와 우리생활, 물체의 빠르기,식물의 구조와 기능, 디자인 (생물교육, 물리학, 디자인학과학, 과학교육 전공 학과)","5학년","중","상관없음","채원곤","010-5156-9403",88,"보글보글","팀장","임지수","여","대구교육대학교","초등교육과(과학심화전공)",2,"95.09.05","010-5912-8703","대구시 남구","대구","경일여고",{"$f":"IF(Y10=$C$10,\"단거리\",\"중/장거리\")","v":"단거리"}]
[{"$nulls":15},"팀원","김아영","여","대구교육대학교","초등교육과(과학심화전공)",2,"92.11.23","010-6676-9096","대구시 남구","대구","경일여고",{"$f":"IF(Y11=$C$10,\"단거리\",\"중/장거리\")","v":"단거리"}]
[{"$nulls":15},"팀원","이어진","여","대구교육대학교","초등교육과(과학심화전공)",2,"96.01.07","010-2367-0354","대구시 남구","대구","경일여고","단거리"]
[{"$nulls":15},"팀원","이지은","여","대구교육대학교","초등교육과(과학심화전공)",2,"93.07.07","010-8831-9707","대구시 수성구","대구","경일여고","단거리"]
[{"$nulls":15},"팀원","최가영","여","대구교육대학교","초등교육과(과학심화전공)",2,"95.06.20","010-9860-0978","대구시 남구","대구","경일여고","단거리"]
[{"$nulls":15},"팀원","박현준","남","대구교육대학교","초등교육과(실과심화전공)",2,"95.12.10","010-5120-5897","대구시 달서구","대구","경일여고","단거리"]
[null,3,"대구","고","강북고등학교","대구광역시 북구 태전로 100","10. 19 ~ 23","산화와 환원, 산-염기 지시약(화학, 화학교육, 화학공학 등 화학 관련 학과)","2학년","중상","상관없음","김현경","010-7650-6833",98]
[null,4,"대구","고","경일여자고등학교","대구시 남구 효성로 37(봉덕동)","8.12 ~ 9.9 까지 매주 수요일","한반도 지형의 심미적 감상 (지구과학, 국어, 음악, 미술 전공 학과)","1학년","상","상관없음","이경제","010-6421-9515","신청자들","피노키오","팀장","박정광","남","경북대학교","전자공학부",3,"1993-02-14","010-3526-4579","대구시 대현동","대구","경일여고",{"$f":"IF(Y17=$C$17,\"단거리\",\"중/장거리\")","v":"단거리"}]
[{"$nulls":15},"팀원","서진교","남","경북대학교","전자공학부",2,"1993-11-02","010-3354-4635","대구시 이곡동","대구","경일여고",{"$f":"IF(Y18=$C$17,\"단거리\",\"중/장거리\")","v":"단거리"}]
[{"$nulls":15},"팀원","이주헌","남","경북대학교","전자공학부",3,"1993-02-28","010-6778-2929","대구시 산격동","대구","경일여고","단거리"]
[{"$nulls":15},"팀원","홍헌우","남","경북대학교","전자공학부",3,"1991-03-27","010-6707-7500","대구시 읍내동","대구","경일여고","단거리"]
[{"$nulls":15},"팀원","서어진","여","경북대학교","전자공학부",3,"1993-10-08","010-2901-1008","대구시 대현동","대구","경일여고","단거리"]
[{"$nulls":15},"팀원","정연태","남","경북대학교","전자공학부",2,"1993-05-14","010-2510-7366","대구시 봉덕동","대구","경일여고","단거리"]
[null,5,"광주","초","도산초등학교","광주광역시 광산구 송저외로 6","9. 7 ~ 11","LED Art- 명화의 재탄생, 식물공장, 아두이노 프로그램(생명전공학과,  컴퓨터나 전산과)","5학년","중하","상관없음","김은하","010-4603-0668",75]
[null,6,"광주","초","광주교대부설초등학교","광주광역시 북구 필문대로 55","9. 7 ~ 11","녹색에너지, 자연 프로그램 개발(생명공학, 생물교육, 숲 체험)","2학년","중상","상관없음","최재은","010-9443-0717(통화중)",96]
[null,7,"대전","고","대전동산고등학교","대전광역시 중구 문화로 183(문화동)","9. 7 ~ 11","태양전지와 광물자원 (물리학, 물리교육, 기타 물리 전공 학과)","1학년","중","상관없음","홍석균","010-6368-3014(무응답)",150,"성모짱","팀장","윤지혜","여","한밭대학교","신소재공학과",2,"95.05.06","010-7710-4556","대전 서구","대전",null,{"$f":"IF(Y25=$C$25,\"단거리\",\"중/장거리\")","v":"단거리"}]
[{"$nulls":15},"팀원","전채리","여","충남대학교","응용화학공학과",1,"95.05.03","010-2506-9553","대전 동구","대전",null,{"$f":"IF(Y26=$C$25,\"단거리\",\"중/장거리\")","v":"단거리"}]
[{"$nulls":15},"팀원","김재린","여","한밭대학교","정보통신공학과",2,"95.08.21","010-9351-8839","대전 대덕구","대전",null,"단거리"]
[{"$nulls":15},"팀원","김소희","여","충남대학교","미생물분자생명과학과",1,"95.04.28","010-7232-3116","대전 중구","대전",null,"단거리"]
[{"$nulls":15},"팀원","강예지","여","한밭대학교","정보통신공학과",2,"95.09.11","010-3020-9744","대전 대덕구","대전",null,"단거리"]
[{"$nulls":15},"팀원","조호정","여","대전대학교","간호학과",2,"95.12.11","010-2308-2853","대전 서구","대전",null,"단거리"]
[null,8,"경기","초","연서초등학교","경기도 광명시 안현로 80-2","9. 7 ~ 11","암석 관찰, 화석 만들기, 화석 복원 체험 (지구과학, 지구과학 교육, 기타 과학 전공 학과)","3학년","고르게 분포","상관없음","윤미경","010-8512-9362(무응답_",150,"전달","팀장","이상미","여","서울과학기술대학교","전기정보공학과",2,"1995.10.27","010-3118-0875","경기도 남양주시","서울","연서초","단거리"]
[{"$nulls":15},"팀원","장숙현","남","서울과학기술대학교","전기정보공학과",2,"1992.04.22","010-3722-9609","서울시 노원구","서울","연서초","단거리"]
[{"$nulls":15},"팀원","전승훈","남","서울과학기술대학교","전기정보공학과",2,"1993.10.04","010-6856-3125","서울시 강동구","서울","연서초","단거리"]
[{"$nulls":15},"팀원","김성연","여","서울과학기술대학교","전기정보공학과",2,"1995.07.07","010-2850-5337","경기도 구리시","서울","연서초","단거리"]
[{"$nulls":15},"팀원","박정은","여","서울과학기술대학교","전기정보공학과",2,"1995.07.23","010-2415-6819","서울시 노원구","서울","연서초","단거리"]
[{"$nulls":15},"팀원","김예림","여","서울과학기술대학교","전기정보공학과",1,"1996.03.07","010-3882-7846","서울시 중랑구","서울","연서초","단거리"]
[null,9,"경기","초","곡정초등학교","경기도 수원시 권선구 권선동 242-3번지","8. 24 ~ 28","숲속 작은 동물들이 함께하는 아름다운 우리반(생물교육 전공)","3학년","중","미기재","김범학","010-2043-1880(소리샘)",150,"영락","팀장","서태희","여","단국대","화학과",1,960412,"010-6471-2007","서울시 관악구","경기","곡정초",{"$f":"IF(Y37=$C$37,\"단거리\",\"중/장거리\")","v":"단거리"}]
[{"$nulls":15},"팀원","강선혜","여","인천대","도시건축학부",1,960529,"010-2708-0378","서울시 관악구","경기","곡정초",{"$f":"IF(Y38=$C$37,\"단거리\",\"중/장거리\")","v":"단거리"}]
[{"$nulls":15},"팀원","김은정","여","한신대","컴퓨터공학과",1,960510,"010-2083-5793","서울시 동작구","경기","곡정초","단거리"]
[{"$nulls":15},"팀원","이상민","여","고려대","응용통계학과",1,960424,"010-3909-9903","서울시 관악구","경기","곡정초","단거리"]
[null,10,"경기","초","군포양정초등학교","경기도 군포시 오금로 131","9. 14 ~ 18","나만의 악기 만들기 (과학, 수학, 음악, 미술)","5학년","5학년 전체","상관없음","김은영","010-4136-8851(무응답_",182,"견우와직녀","팀장","김주훈","남","동국대","수학교육과",2,"93.08.17","010-4323-0847","서울중구","서울","경기지역","단거리"]
[{"$nulls":15},"팀원","정회윤","남","동국대","수학교육과",2,"93.04.14","010-9394-4966","서울중구","서울","경기지역","단거리"]
[{"$nulls":15},"팀원","성경제","남","동국대","수학교육과",2,"92.07.13","010-6285-7757","서울중구","서울","경기지역","단거리"]
[{"$nulls":15},"팀원","엄제현","남","동국대","수학교육과",2,"93.08.05","010-9984-2452","서울중구","서울","경기지역","단거리"]
[{"$nulls":15},"팀원","송동섭","남","동국대","수학교육과",1,"93.05.20","010-9115-5028","서울중구","서울","경기지역","단거리"]
[{"$nulls":15},"팀원","정다연","여","동국대","수학교육과",2,"95.05.29","010-7278-0776","서울중구","서울","경기지역","단거리"]
[null,11,"경기","초","독정초등학교","경기도 용인시 기흥구 보정로 100","8. 24 ~ 28","적정기술, 사람을 살리는 따뜻한 기술 (생명공학, 생물교육, 기타 생물 전공 학과), 물을 지키는 STEAM 수업 (생명공학, 지속발전가능교육, 기타 융합과학 전공 학과), 레스큐봇, 로봇기계공학(로봇공학, 전자공학, 기타 기계공학 전공 학과","5~6학년","중","상관없음","임선희","010-3548-4961",120,"스티므잡스","팀장","남정웅","남","중앙대학교","식물시스템공학과, 화학공학과",3,"92.06.18","010-2298-8846","중앙대학교 안성캠퍼스 기숙사","경기","독정초","단거리"]
[{"$nulls":15},"팀원","양재현","남","중앙대학교","식물시스템공학과, 화학공학과",3,"91.10.16","010-4153-7129","중앙대학교 안성캠퍼스 기숙사","경기","독정초","단거리"]
[{"$nulls":15},"팀원","임영태","남","중앙대학교","식물시스템공학과, 화학공학과",3,"91.12.28","010-7720-7423","중앙대학교 안성캠퍼스 기숙사","경기","독정초","단거리"]
[{"$nulls":15},"팀원","류경민","여","중앙대학교","동물생명공학과",2,"95.07.28","010-7441-5236","중앙대학교 안성캠퍼스 기숙사","경기","독정초","단거리"]
[{"$nulls":15},"팀원","조휘주","여","중앙대학교","식물시스템공학과",2,"95.09.22","010-6631-4193","중앙대학교 안성캠퍼스 기숙사","경기","독정초","단거리"]
[{"$nulls":15},"팀원","최현정","여","중앙대학교","동물생명공학과",2,"95.09.11","010-8817-1068","중앙대학교 안성캠퍼스 기숙사","경기","독정초","단거리"]
[null,12,"경기","초","새금초등학교","경기도 파주시 후곡로 104","10. 24 ~ 28","에너지, 지층화석,공룡(지구, 화학, 생물, 물리 기타 )","4학년, 6학년","중","상관없음","김병하","010-9047-0976",200]
[null,13,"경기","초","신둔초등학교","경기 이천시 신둔면 경충대로 3150번길 82-3","8. 24 ~ 9. 1","나는 무대 디자이너, 거북이 롤러코스터 만들기(설계, 공학, 물리 전공 학과) ","5학년","중","상관없음","김윤균","010-9352-3268",50]
[null,14,"경기","초","안산원곡초등학교","경기도 안산시 단원구 원곡초길 9","9. 14 ~ 18","무한거울, 몬드리안 기타 제작, 탄성투석기, 맛있는 건축(초등교육, 물리교육 등)","5학년","하","상관없음","김춘호","010-4842-2758",80,"제발붙여주세요","팀장","이은지","여","경기대학교","신소재공학과",1,"96.03.05","010-6605-9560","수원시 팔달구","경기","곡정초","단거리"]
[{"$nulls":15},"팀원","김경록","남","경기대학교","신소재공학과",1,"96.11.19","010-3134-9665","양평군 강상면","경기","곡정초","단거리"]
[{"$nulls":15},"팀원","박정현","남","경기대학교","신소재공학과",2,"95.12.22","010-4915-9959","수원시 장안구","경기","곡정초","단거리"]
[{"$nulls":15},"팀원","문아람","여","경기대학교","신소재공학과",1,"96.05.20","010-5710-9652","안양시 동안구","경기","곡정초","단거리"]
[{"$nulls":15},"팀원","조아현","여","경기대학교","신소재공학과",1,"96.07.25","010-2402-8294","서울시 서대문구","경기","곡정초","단거리"]
[{"$nulls":15},"팀원","고대현","남","경기대학교","신소재공학과",1,"96.10.29","010-4624-3134","성남시 중원구","경기","곡정초","단거리"]
[null,15,"경기","초","운천초등학교","경기도 오산시 운암로 116","9. 14 ~ 18","로봇 기계공학기초 이론 및 관련 진로 탐색 수업, 소프트웨어 기초 소양 교육 (로봇 혹은 컴퓨터 프로그래밍 관련 학과) ","6학년","하","상관없음","김은지","010-7399-8486",210,"TH(Teaching Human)","팀장","어효","남","한국기술교육대","제어시스템",3,"93.2.22","010-4242-8199","천안시 동남구","전국",null,"단거리"]
[{"$nulls":15},"팀원","박종혁","남","한국기술교육대","제어시스템",2,"93.3.19","010-3224-3887","천안시 동남구","전국",null,"단거리"]
[{"$nulls":15},"팀원","송영훈","남","한국기술교육대","디지털시스템",2,"93.7.01","010-5030-5130","천안시 동남구","전국",null,"단거리"]
[{"$nulls":15},"팀원","신수민","여","한국기술교육대","제어시스템",2,"96.1.24","010-2343-5309","천안시 동남구","전국",null,"단거리"]
[{"$nulls":15},"팀원","최화영","여","한국기술교육대","생산시스템",2,"95.10.04","010-5743-4319","천안시 동남구","전국",null,"단거리"]
[{"$nulls":15},"팀원","김나경","여","한국기술교육대","생산시스템",2,"95.4.07","010-5222-6520","천안시 동남구","전국",null,"단거리"]
[null,16,"경기","초","현일초등학교","경기도 평택시 안중읍 현화중앙길 83","9. 14 ~ 18","인체의 신비, 환경 보전 관련 프로그램 개발(생명공학, 생물교육, 환경공학과)","5학년","중","상관없음","박진호","010-3827-5304",153,"꽃봉오리","팀장","서승아","여","한경대학교","식물생명환경과학과",3,"94.4.30","010-6713-3723","경기도 안성시","경기 평택","(공란)","단거리"]
[{"$nulls":15},"팀원","김희수","여","한경대학교","식물생명환경과학과",3,"95.1.9","010-9102-6007","경기도 평택시","경기 평택","(공란)","단거리"]
[{"$nulls":15},"팀원","이지은","여","한경대학교","식물생명환경과학과",3,"94.6.7","010-3315-8502","경기도 안성시","경기 평택","(공란)","단거리"]
[{"$nulls":15},"팀원","박소희","여","한경대학교","식물생명환경과학과",2,"95.6.1","010-4157-5925","경기도 안성시","경기 평택","(공란)","단거리"]
[null,17,"경기","중","법원여자중학교","경기도 파주시 법원읍 자운서원로 31번","8월 24일로 시간 변경","8. 24 ~ 28","1. 안전한 다리 만들기, 2. 청진기 설계도 작성 및 청진기 만들기, 3. 나만의 공포캐릭터 제작하기(물리학, 토목공학, 컴퓨터공학)","1학년","하","정영호","016-352-9943",126]
[null,18,"경기","중","수원중학교","수원시 팔달구 정조로 660-10 (매교동)","10. 19 ~ 23","온도에 따른 기체의 부피 변화-열기구 만들기(화학교육, 화학공학, 기타   화학 전공 학과), 빛의 분해와 합성-간이 분광기 만들기, LED를 이용한 조명 만들기(물리교육, 기타 물리학 전공 학과), 산과 염기의 성질-이온 이동 측정 장치 만들기 (화학교육, 화학공학, 기타 화학 전공 학과)","1~3학년","보통","상관없음","김은숙","010-3228-1258",820,"풍생","팀장","이동훈","남","동국대학교 ","화학과","1학년","1996-07-06","010-7576-1816","경기도 성남시","서울 & 경기","독정초","단거리"]
[{"$nulls":15},"팀원","정동규","남","고려대학교","물리학과","1학년","1996-01-27","010-5537-9693","경기도 성남시","서울 & 경기","독정초","단거리"]
[{"$nulls":15},"팀원","박한빈","남","경희대학교","응용화학과","1학년 ","1996-06-04","010-3885-2776","경기도 성남시","서울 & 경기","독정초","단거리"]
[{"$nulls":15},"팀원","박성윤","남","서울과학기술대학교","화공생명공학과","1학년","1997-01-12","010-4929-0741","경기도 성남시","서울 & 경기","독정초","단거리"]
[{"$nulls":15},"팀원","한지원","남","세종대학교","화학과","1학년","1996-02-12","010-4029-4090","경기도 성남시","서울 & 경기","독정초","단거리"]
[{"$nulls":15},"팀원","김윤우","남","강남대학교","전자공학과","1학년","1996-09-08","010-4724-7736","경기도 성남시","서울 & 경기","독정초","단거리"]
[null,19,"경기","중","양지중학교","경기도 안산시 단원구 안산천 남로 119","10. 15 ~ 21","배 만들기(과학/기술), 에어서핑 비행기 만들기(과학/기술/미술), 체세포 복제 생명기술(과학/기술/미술)","1학년, 2학년, 3학년","중","상관없음","이윤정","010-8411-7751","미기재"]
[null,20,"경기","중","어유중학교","경기도 파주시 율곡로 2875","10. 12 ~ 16","1. 유선조종자동차: 토글스위치를 이용하여 유선조종자동차 제작 및 작동(물리)\n2. 자가발전기: 회전을 이용한 발전기 제작\n3. Air Surfing 비행기","3학년","전학년","상관없음","유승목","010-2326-1710","미기재"]
[null,21,"경기","중","회천중학교","경기도 양주시 고암길 77 회천중학교","10. 12 ~ 16","힘과운동의 원리 및 물질의 특성(과학교육, 자연과학관련)","1~2학년","중","상관없음","김은경","010-3134-9004",206,"DJ_Bean","팀장","조현동","남","대진대학교","교육대학원 수학교육전공","1학기","91.1.4","010-9988-9114","포천","양주","(공란)","단거리"]
[{"$nulls":15},"팀원","임성현","남","대진대학교","교육대학원 수학교육전공","1학기","91.2.14","010-5024-6379","의정부","양주","(공란)","단거리"]
[{"$nulls":15},"팀원","전수지","여","대진대학교","교육대학원 영어교육전공","4학기","90.7.31","010-4691-0544","서울 노원","양주","(공란)","단거리"]
[{"$nulls":15},"팀원","이슬기","여","대진대학교","교육대학원 국어교육전공","3학기","91.10.12","010-5041-0832","포천","양주","(공란)","단거리"]
[{"$nulls":15},"팀원","김가희","여","대진대학교","교육대학원 국어교육전공","2학기","92.1.19","010-2629-9219","포천","양주","(공란)","단거리"]
[{"$nulls":15},"팀원","권대건","남","대진대학교","교육대학원 국어교육전공","1학기","91.1.5","010-9996-2621","포천","양주","(공란)","단거리"]
[null,22,"강원","초","영월초등학교","강원도 영월군 영월읍 하송안길 100","8. 24 ~ 28","롤러코스터 만들기 (과학 단원 : 물체의 빠르기) (건축 공학 전공),  마리오네트 인형극 만들기 (과학단원 : 우리 몸의 구조와 기능) (연극 전공)","5학년","5학년 전체","상관없음","김대진","010-8101-8782",158]
[null,23,"강원","고","태백기계공업고등학교","강원도 태백시 평화길 8-24 (장성동)","8. 31 ~ 9. 4"," 수질 정수 방법, 자기발전을 이용한 자동차 만들기  (환경공학 및 전기공학(물리전공) 학과)","1학년, 2학년","보통","상관없음","유상기","010-3340-8818",180]
[null,24,"강원","고","춘천고등학교","강원도 춘천시 중앙로 68, 37번길","8. 10 ~ 14 또는 9. 7 ~ 11","LED 활용, 날아라 종이비행기  (전기전자공학, 공업교육, 기술교육)","1학년","상","상관없음","고미정","010-3381-0854",120,"식스센스","팀장","조우진","남","한국교원대학교","물리교육과",3,"93.12.27.","010-2994-7243","강웜도 춘천시 숙박시설","춘천","(공란)","장거리"]
[{"$nulls":15},"팀원","양지원","여","한국교원대학교","물리교육과",3,"94.08.12.","010-9416-9605","강웜도 춘천시 숙박시설","춘천","(공란)","장거리"]
[{"$nulls":15},"팀원","염세연","여","한국교원대학교","물리교육과",3,"94.02.04.","010-4617-8750","강웜도 춘천시 숙박시설","춘천","(공란)","장거리"]
[{"$nulls":15},"팀원","강민정","여","공주대학교","의류학과",3,"93.08.25.","010-3245-6279","강웜도 춘천시 숙박시설","춘천","(공란)","장거리"]
[{"$nulls":15},"팀원","옥민주","여","동국대 교육대학원","미술교육전공","2학기","88.12.16.","010-7763-0478","강웜도 춘천시 숙박시설","춘천","(공란)","장거리"]
[{"$nulls":15},"팀원","신지은","여","한국교원대학교","물리교육과",2,"95.07.28.","010-2585-8704","강웜도 춘천시 숙박시설","춘천","(공란)","장거리"]
[null,25,"충남","초","기산초등학교","충남 서천군 기산면 기산길 108","8. 31 ~ 9. 4","소중한 나의 몸: 동영상 감상 및 편지쓰기, 신체를 이용한 게임, 내 몸을 주제로 역할극, 시체를 부위별로 합체하기(교육대학학생, 교원대학학생 중 과학 전공), 그림자는 내친구: 그림자 연극 만들기, 그림자 연극 감상,그림자 연극 만들기, 그림자 연극 발표회(교육대학학생, 교원대학학생 중 과학 전공), 나는 생태탐사 전문가: 학교주변 식물 관찰하기, 식물생김새, 특징, 이름알기(환경, 생물), 한국의 음식: 비빔밥에 숨은 영양, 오방색, 과학, 한국음식 세계화(식품영양학), 바이오 환경 전문가: EM효소에 대하여 알아보기, EM효소 만들기,(미생물학)","1학년, 2학년, 4학년, 6학년","고르게 분포/중","상관없음","조향순","010-5652-6327",38]
[null,26,"충남","초","태봉초등학교","충남 공주시 원태봉길 57","9. 7 ~ 11","비행의 원리, 자동차 추진 원리 2학년, 건축물 축조의 원리, 조선(造船)의 원리, 제작 기법, 생명의 진화, 생명체 복원, 태양광 자동차의 원리","2~6학년","고르게 분포","상관없음","정준영","018-690-8879",43,"STEAMER","팀장","김재현","남","공주교육대학교","윤리교육과",3,"1993.07.20","010-6258-5593","경남 창원","충남 공주","(공란)","단거리"]
[{"$nulls":15},"팀원","김해림","여","공주교육대학교","윤리교육과",3,"1994.03.30","010-9852-5811","충남 서천","충남 공주","(공란)","단거리"]
[{"$nulls":15},"팀원","홍혜인","여","공주교육대학교","윤리교육과",3,"1994.12.13","010-4655-1441","경북 영주","충남 공주","(공란)","단거리"]
[{"$nulls":15},"팀원","박혜수","여","공주교육대학교","윤리교육과",3,"1994.04.21","010-6520-2232","충남 예산","충남 공주","(공란)","단거리"]
[{"$nulls":15},"팀원","강명훈","남","공주교육대학교","윤리교육과",3,"1994.02.19","010-9956-1442","충남 공주","충남 공주","(공란)","단거리"]
[{"$nulls":15},"팀원","문갑조","남","공주교육대학교","사회교육과",3,"1994.08.30","010-2215-3313","전북 익산","충남 공주","(공란)","단거리"]
[null,27,"충남","초","남이초등학교","충남 금산군 남이면 진악로 51","8. 24 ~ 28","동물의 한살이 전시회, 동물구조대, 움직이는 공룡, 화석 제작, 무지개 물탑 쌓기 등(생물교육, 지질학과, 환경공학과)","5학년","중하","상관없음","김재현","010-5557-8089",16,"TOP","팀장","김나경","여","공주대학교","물리학과",3,940122,"010-4411-6103","공주시 신관동","공주, 대전","대전동산고","단거리"]
[{"$nulls":15},"팀원","이재준","남","공주대학교","물리학과",4,910713,"010-2054-2722","공주시 신관동","공주, 대전","대전동산고","단거리"]
[{"$nulls":15},"팀원","이수연","여","공주대학교","물리학과",3,940912,"010-2915-1524","공주시 신관동","공주, 대전","대전동산고","단거리"]
[{"$nulls":15},"팀원","장보경","여","공주대학교","물리학과",3,941110,"010-6711-2145","공주시 신관동","공주, 대전","대전동산고","단거리"]
[{"$nulls":15},"팀원","김현우","남","공주대학교","물리학과",2,930811,"010-9017-5356","공주시 신관동","공주, 대전","대전동산고","단거리"]
[{"$nulls":15},"팀원","한성범","남","공주대학교","물리학과",4,900711,"010-3126-3603","공주시 신관동","공주, 대전","대전동산고","단거리"]
[{"$nulls":14},"사랑의 매","팀장","한재섭","남","서울시립대","전자전기컴퓨터공학부",3,"89. 02. 09","010 8856 6620","서울시 동대문구","서울","풍문여고"]
[{"$nulls":15},"팀원","김근철","남","서울시립대","전자전기컴퓨터공학부",3,"89. 05. 19","010 9880 0654","서울시 동대문구","서울","풍문여고"]
[{"$nulls":15},"팀원","김문회","남","서울시립대","전자전기컴퓨터공학부",3,"92. 07. 01","010 6425 3142","서울시 동대문구","서울","풍문여고"]
[{"$nulls":15},"팀원","장선호","남","서울시립대","전자전기컴퓨터공학부",3,"92. 04. 03","010 7192 9243","서울시 동대문구","서울","풍문여고"]
[{"$nulls":15},"팀원","조우제","남","서울시립대","전자전기컴퓨터공학부",3,"94. 09. 05","010 5578 1087","서울시 동대문구","서울","풍문여고"]
[{"$nulls":15},"팀원","신범수","남","서울시립대","전자전기컴퓨터공학부",3,"94. 06. 04","010 9101 7334","서울시 동대문구","서울","풍문여고"]
[{"$nulls":14},"* 서울권이 아니면 무리라서 신청 취소 희망"]
[]
[]
[]
[]
[]
[{"$nulls":14},"TOP","팀장","김나경","여","공주대학교","물리학과",3,940122,"010-4411-6103","공주시 신관동","공주, 대전","대전동산고"]
[{"$nulls":15},"팀원","이재준","남","공주대학교","물리학과",4,910713,"010-2054-2722","공주시 신관동","공주, 대전","대전동산고"]
[{"$nulls":15},"팀원","이수연","여","공주대학교","물리학과",3,940912,"010-2915-1524","공주시 신관동","공주, 대전","대전동산고"]
[{"$nulls":15},"팀원","장보경","여","공주대학교","물리학과",3,941110,"010-6711-2145","공주시 신관동","공주, 대전","대전동산고"]
[{"$nulls":15},"팀원","김현우","남","공주대학교","물리학과",2,930811,"010-9017-5356","공주시 신관동","공주, 대전","대전동산고"]
[{"$nulls":15},"팀원","한성범","남","공주대학교","물리학과",4,900711,"010-3126-3603","공주시 신관동","공주, 대전","대전동산고"]

{"sheet":"전체학교명부","index":2,"n_rows":111,"n_cols":12,"rows_kept":111,"cut":false,"hidden":true,"merged":[]}
["시도","학교명",null,null,"대학생팀명","학교명","담당교사","연락처","학교주소","팀장","대학","연락처"]
["서울","서울갈산초등학교",{"$f":"COUNTIF('3차 모집 학교_15개교'!$E$4:$E$18,전체학교명부!B2)","v":0},null,"푸르미르","서울갈산초등학교",{"$f":"VLOOKUP(F2,#REF!,2,FALSE)","v":{"$error":"#REF!"}},{"$f":"VLOOKUP(F2,#REF!,4,FALSE)","v":{"$error":"#REF!"}},{"$f":"VLOOKUP(F2,'2차'!$E$3:$F$106,2,FALSE)","v":{"$error":"#N/A"}},"배준혁","중앙대학교",0]
["서울","서울갈현초등학교",{"$f":"COUNTIF('3차 모집 학교_15개교'!$E$4:$E$18,전체학교명부!B3)","v":0},null,"새섬&새내기","서울갈현초등학교",{"$f":"VLOOKUP(F3,#REF!,2,FALSE)","v":{"$error":"#REF!"}},{"$f":"VLOOKUP(F3,#REF!,4,FALSE)","v":{"$error":"#REF!"}},{"$f":"VLOOKUP(F3,'2차'!$E$3:$F$106,2,FALSE)","v":{"$error":"#N/A"}},"김우경","한동대학교",0]
["서울","서울공덕초등학교",{"$f":"COUNTIF('3차 모집 학교_15개교'!$E$4:$E$18,전체학교명부!B4)","v":0},null,"WRC","서울공덕초등학교",{"$f":"VLOOKUP(F4,#REF!,2,FALSE)","v":{"$error":"#REF!"}},{"$f":"VLOOKUP(F4,#REF!,4,FALSE)","v":{"$error":"#REF!"}},{"$f":"VLOOKUP(F4,'2차'!$E$3:$F$106,2,FALSE)","v":{"$error":"#N/A"}},"조준상","대진대학교",0]
["서울","서울길동초등학교",{"$f":"COUNTIF('3차 모집 학교_15개교'!$E$4:$E$18,전체학교명부!B5)","v":0},null,"코딧","서울길동초등학교",{"$f":"VLOOKUP(F5,#REF!,2,FALSE)","v":{"$error":"#REF!"}},{"$f":"VLOOKUP(F5,#REF!,4,FALSE)","v":{"$error":"#REF!"}},{"$f":"VLOOKUP(F5,'2차'!$E$3:$F$106,2,FALSE)","v":{"$error":"#N/A"}},"이송연","숙명여자대학교",0]
["서울","서울당현초등학교",{"$f":"COUNTIF('3차 모집 학교_15개교'!$E$4:$E$18,전체학교명부!B6)","v":0},null,"하이스트","서울당현초등학교",{"$f":"VLOOKUP(F6,#REF!,2,FALSE)","v":{"$error":"#REF!"}},{"$f":"VLOOKUP(F6,#REF!,4,FALSE)","v":{"$error":"#REF!"}},{"$f":"VLOOKUP(F6,'2차'!$E$3:$F$106,2,FALSE)","v":{"$error":"#N/A"}},"이선미","춘천교육대학교",0]
["서울","서울면동초등학교",{"$f":"COUNTIF('3차 모집 학교_15개교'!$E$4:$E$18,전체학교명부!B7)","v":0},null,"S-TEAM","서울면동초등학교",{"$f":"VLOOKUP(F7,#REF!,2,FALSE)","v":{"$error":"#REF!"}},{"$f":"VLOOKUP(F7,#REF!,4,FALSE)","v":{"$error":"#REF!"}},{"$f":"VLOOKUP(F7,'2차'!$E$3:$F$106,2,FALSE)","v":{"$error":"#N/A"}},"이홍주","서울교육대학교",0]
["서울","서울명덕초등학교",{"$f":"COUNTIF('3차 모집 학교_15개교'!$E$4:$E$18,전체학교명부!B8)","v":0},null,"Aerotaract","서울명덕초등학교",{"$f":"VLOOKUP(F8,#REF!,2,FALSE)","v":{"$error":"#REF!"}},{"$f":"VLOOKUP(F8,#REF!,4,FALSE)","v":{"$error":"#REF!"}},{"$f":"VLOOKUP(F8,'2차'!$E$3:$F$106,2,FALSE)","v":{"$error":"#N/A"}},"강다솜","한국항공대학교",0]
["서울","서울불암초등학교",{"$f":"COUNTIF('3차 모집 학교_15개교'!$E$4:$E$18,전체학교명부!B9)","v":0},null,"난선생이고넌제자야","서울불암초등학교",{"$f":"VLOOKUP(F9,#REF!,2,FALSE)","v":{"$error":"#REF!"}},{"$f":"VLOOKUP(F9,#REF!,4,FALSE)","v":{"$error":"#REF!"}},{"$f":"VLOOKUP(F9,'2차'!$E$3:$F$106,2,FALSE)","v":{"$error":"#N/A"}},"김진","한국외국어대학교 글로벌캠퍼스",0]
["서울","서울용산초등학교",{"$f":"COUNTIF('3차 모집 학교_15개교'!$E$4:$E$18,전체학교명부!B10)","v":0},null,"Win-win","서울용산초등학교",{"$f":"VLOOKUP(F10,#REF!,2,FALSE)","v":{"$error":"#REF!"}},{"$f":"VLOOKUP(F10,#REF!,4,FALSE)","v":{"$error":"#REF!"}},{"$f":"VLOOKUP(F10,'2차'!$E$3:$F$106,2,FALSE)","v":{"$error":"#N/A"}},"연다정","한국외국어대학교",0]
["서울","서울장충초등학교",{"$f":"COUNTIF('3차 모집 학교_15개교'!$E$4:$E$18,전체학교명부!B11)","v":0},null,"열정갑","서울장충초등학교",{"$f":"VLOOKUP(F11,#REF!,2,FALSE)","v":{"$error":"#REF!"}},{"$f":"VLOOKUP(F11,#REF!,4,FALSE)","v":{"$error":"#REF!"}},{"$f":"VLOOKUP(F11,'2차'!$E$3:$F$106,2,FALSE)","v":{"$error":"#N/A"}},"윤인수","한양대학교",0]
["부산","사남초등학교",{"$f":"COUNTIF('3차 모집 학교_15개교'!$E$4:$E$18,전체학교명부!B12)","v":0},null,"열정! 영맨~","사남초등학교",{"$f":"VLOOKUP(F12,#REF!,2,FALSE)","v":{"$error":"#REF!"}},{"$f":"VLOOKUP(F12,#REF!,4,FALSE)","v":{"$error":"#REF!"}},{"$f":"VLOOKUP(F12,'2차'!$E$3:$F$106,2,FALSE)","v":{"$error":"#N/A"}},"유건우","부산대학교",0]
["부산","상당초등학교",{"$f":"COUNTIF('3차 모집 학교_15개교'!$E$4:$E$18,전체학교명부!B13)","v":0},null,"식스팀(Six Team)","상당초등학교",{"$f":"VLOOKUP(F13,#REF!,2,FALSE)","v":{"$error":"#REF!"}},{"$f":"VLOOKUP(F13,#REF!,4,FALSE)","v":{"$error":"#REF!"}},{"$f":"VLOOKUP(F13,'2차'!$E$3:$F$106,2,FALSE)","v":{"$error":"#N/A"}},"이채민","동아대학교",0]
["부산","천마초등학교",{"$f":"COUNTIF('3차 모집 학교_15개교'!$E$4:$E$18,전체학교명부!B14)","v":0},null,"도담도담","천마초등학교",{"$f":"VLOOKUP(F14,#REF!,2,FALSE)","v":{"$error":"#REF!"}},{"$f":"VLOOKUP(F14,#REF!,4,FALSE)","v":{"$error":"#REF!"}},{"$f":"VLOOKUP(F14,'2차'!$E$3:$F$106,2,FALSE)","v":{"$error":"#N/A"}},"노민우","부산교육대학교",0]
["대구","대구도림초등학교",{"$f":"COUNTIF('3차 모집 학교_15개교'!$E$4:$E$18,전체학교명부!B15)","v":0},null,"보글보글","대구도림초등학교",{"$f":"VLOOKUP(F15,#REF!,2,FALSE)","v":{"$error":"#REF!"}},{"$f":"VLOOKUP(F15,#REF!,4,FALSE)","v":{"$error":"#REF!"}},{"$f":"VLOOKUP(F15,'2차'!$E$3:$F$106,2,FALSE)","v":"대구광역시 달성군 다사읍 서재로26길 94(서재리 32)"},"임지수","대구교육대학교","010-5912-8703"]
["대구","대구장기초등학교",{"$f":"COUNTIF('3차 모집 학교_15개교'!$E$4:$E$18,전체학교명부!B16)","v":0},null,"애교지존","대구장기초등학교",{"$f":"VLOOKUP(F16,#REF!,2,FALSE)","v":{"$error":"#REF!"}},{"$f":"VLOOKUP(F16,#REF!,4,FALSE)","v":{"$error":"#REF!"}},{"$f":"VLOOKUP(F16,'2차'!$E$3:$F$106,2,FALSE)","v":{"$error":"#N/A"}},"신용길","경북대학교",0]
["대구","대구지묘초등학교",{"$f":"COUNTIF('3차 모집 학교_15개교'!$E$4:$E$18,전체학교명부!B17)","v":0},null,"E.E.E","대구지묘초등학교",{"$f":"VLOOKUP(F17,#REF!,2,FALSE)","v":{"$error":"#REF!"}},{"$f":"VLOOKUP(F17,#REF!,4,FALSE)","v":{"$error":"#REF!"}},{"$f":"VLOOKUP(F17,'2차'!$E$3:$F$106,2,FALSE)","v":{"$error":"#N/A"}},"주휘성","경북대학교",0]
["광주","도산초등학교",{"$f":"COUNTIF('3차 모집 학교_15개교'!$E$4:$E$18,전체학교명부!B18)","v":0},null,0,"도산초등학교",{"$f":"VLOOKUP(F18,#REF!,2,FALSE)","v":{"$error":"#REF!"}},{"$f":"VLOOKUP(F18,#REF!,4,FALSE)","v":{"$error":"#REF!"}},{"$f":"VLOOKUP(F18,'2차'!$E$3:$F$106,2,FALSE)","v":"광주광역시 광산구 송저외로 6"},0,0,0]
["광주","광주교대부설초등학교",{"$f":"COUNTIF('3차 모집 학교_15개교'!$E$4:$E$18,전체학교명부!B19)","v":1},null,0,"광주교대부설초등학교",{"$f":"VLOOKUP(F19,#REF!,2,FALSE)","v":{"$error":"#REF!"}},{"$f":"VLOOKUP(F19,#REF!,4,FALSE)","v":{"$error":"#REF!"}},{"$f":"VLOOKUP(F19,'2차'!$E$3:$F$106,2,FALSE)","v":"광주광역시 북구 필문대로 55"},0,0,0]
["대전","대전갑천초등학교",{"$f":"COUNTIF('3차 모집 학교_15개교'!$E$4:$E$18,전체학교명부!B20)","v":0},null,"와야","대전갑천초등학교",{"$f":"VLOOKUP(F20,#REF!,2,FALSE)","v":{"$error":"#REF!"}},{"$f":"VLOOKUP(F20,#REF!,4,FALSE)","v":{"$error":"#REF!"}},{"$f":"VLOOKUP(F20,'2차'!$E$3:$F$106,2,FALSE)","v":{"$error":"#N/A"}},"신현정","충주교육대학교",0]
["대전","대전금동초등학교",{"$f":"COUNTIF('3차 모집 학교_15개교'!$E$4:$E$18,전체학교명부!B21)","v":0},null,"AcTive","대전금동초등학교",{"$f":"VLOOKUP(F21,#REF!,2,FALSE)","v":{"$error":"#REF!"}},{"$f":"VLOOKUP(F21,#REF!,4,FALSE)","v":{"$error":"#REF!"}},{"$f":"VLOOKUP(F21,'2차'!$E$3:$F$106,2,FALSE)","v":{"$error":"#N/A"}},"윤영섭","충남대학교",0]
["대전","학하초등학교",{"$f":"COUNTIF('3차 모집 학교_15개교'!$E$4:$E$18,전체학교명부!B22)","v":0},null,"디딤돌","학하초등학교",{"$f":"VLOOKUP(F22,#REF!,2,FALSE)","v":{"$error":"#REF!"}},{"$f":"VLOOKUP(F22,#REF!,4,FALSE)","v":{"$error":"#REF!"}},{"$f":"VLOOKUP(F22,'2차'!$E$3:$F$106,2,FALSE)","v":{"$error":"#N/A"}},"이승종","한국과학기술원",0]
["대전","진잠초등학교",{"$f":"COUNTIF('3차 모집 학교_15개교'!$E$4:$E$18,전체학교명부!B23)","v":0},null,"칵테일","진잠초등학교",{"$f":"VLOOKUP(F23,#REF!,2,FALSE)","v":{"$error":"#REF!"}},{"$f":"VLOOKUP(F23,#REF!,4,FALSE)","v":{"$error":"#REF!"}},{"$f":"VLOOKUP(F23,'2차'!$E$3:$F$106,2,FALSE)","v":{"$error":"#N/A"}},"박지수","우송대학교",0]
["경기","연서초등학교",{"$f":"COUNTIF('3차 모집 학교_15개교'!$E$4:$E$18,전체학교명부!B24)","v":0},null,"전달","연서초등학교",{"$f":"VLOOKUP(F24,#REF!,2,FALSE)","v":{"$error":"#REF!"}},{"$f":"VLOOKUP(F24,#REF!,4,FALSE)","v":{"$error":"#REF!"}},{"$f":"VLOOKUP(F24,'2차'!$E$3:$F$106,2,FALSE)","v":"경기도 광명시 안현로 80-2"},"이상미","서울과학기술대학교","010-3118-0875"]
["경기","갈곶초등학교",{"$f":"COUNTIF('3차 모집 학교_15개교'!$E$4:$E$18,전체학교명부!B25)","v":0},null,"비타민","갈곶초등학교",{"$f":"VLOOKUP(F25,#REF!,2,FALSE)","v":{"$error":"#REF!"}},{"$f":"VLOOKUP(F25,#REF!,4,FALSE)","v":{"$error":"#REF!"}},{"$f":"VLOOKUP(F25,'2차'!$E$3:$F$106,2,FALSE)","v":{"$error":"#N/A"}},"최미현","단국대학교",0]
["경기","곡정초등학교",{"$f":"COUNTIF('3차 모집 학교_15개교'!$E$4:$E$18,전체학교명부!B26)","v":0},null,"영락","곡정초등학교",{"$f":"VLOOKUP(F26,#REF!,2,FALSE)","v":{"$error":"#REF!"}},{"$f":"VLOOKUP(F26,#REF!,4,FALSE)","v":{"$error":"#REF!"}},{"$f":"VLOOKUP(F26,'2차'!$E$3:$F$106,2,FALSE)","v":"경기도 수원시 권선구 권선동 242-3번지"},"서태희","단국대","010-6471-2007"]
["경기","광주매곡초등학교",{"$f":"COUNTIF('3차 모집 학교_15개교'!$E$4:$E$18,전체학교명부!B27)","v":0},null,"시리우스","광주매곡초등학교",{"$f":"VLOOKUP(F27,#REF!,2,FALSE)","v":{"$error":"#REF!"}},{"$f":"VLOOKUP(F27,#REF!,4,FALSE)","v":{"$error":"#REF!"}},{"$f":"VLOOKUP(F27,'2차'!$E$3:$F$106,2,FALSE)","v":{"$error":"#N/A"}},"김정삼","충북대학교",0]
["경기","군포양정초등학교",{"$f":"COUNTIF('3차 모집 학교_15개교'!$E$4:$E$18,전체학교명부!B28)","v":0},null,"견우와직녀","군포양정초등학교",{"$f":"VLOOKUP(F28,#REF!,2,FALSE)","v":{"$error":"#REF!"}},{"$f":"VLOOKUP(F28,#REF!,4,FALSE)","v":{"$error":"#REF!"}},{"$f":"VLOOKUP(F28,'2차'!$E$3:$F$106,2,FALSE)","v":"경기도 군포시 오금로 131"},"김주훈","동국대","010-4323-0847"]
["경기","독정초등학교",{"$f":"COUNTIF('3차 모집 학교_15개교'!$E$4:$E$18,전체학교명부!B29)","v":0},null,"스티므잡스","독정초등학교",{"$f":"VLOOKUP(F29,#REF!,2,FALSE)","v":{"$error":"#REF!"}},{"$f":"VLOOKUP(F29,#REF!,4,FALSE)","v":{"$error":"#REF!"}},{"$f":"VLOOKUP(F29,'2차'!$E$3:$F$106,2,FALSE)","v":"경기도 용인시 기흥구 보정로 100"},"남정웅","중앙대학교","010-2298-8846"]
["경기","새금초등학교",{"$f":"COUNTIF('3차 모집 학교_15개교'!$E$4:$E$18,전체학교명부!B30)","v":1},null,0,"새금초등학교",{"$f":"VLOOKUP(F30,#REF!,2,FALSE)","v":{"$error":"#REF!"}},{"$f":"VLOOKUP(F30,#REF!,4,FALSE)","v":{"$error":"#REF!"}},{"$f":"VLOOKUP(F30,'2차'!$E$3:$F$106,2,FALSE)","v":"경기도 파주시 후곡로 104"},0,0,0]
["경기","신둔초등학교",{"$f":"COUNTIF('3차 모집 학교_15개교'!$E$4:$E$18,전체학교명부!B31)","v":1},null,0,"신둔초등학교",{"$f":"VLOOKUP(F31,#REF!,2,FALSE)","v":{"$error":"#REF!"}},{"$f":"VLOOKUP(F31,#REF!,4,FALSE)","v":{"$error":"#REF!"}},{"$f":"VLOOKUP(F31,'2차'!$E$3:$F$106,2,FALSE)","v":"경기 이천시 신둔면 경충대로 3150번길 82-3"},0,0,0]
["경기","안산원곡초등학교",{"$f":"COUNTIF('3차 모집 학교_15개교'!$E$4:$E$18,전체학교명부!B32)","v":0},null,"제발붙여주세요","안산원곡초등학교",{"$f":"VLOOKUP(F32,#REF!,2,FALSE)","v":{"$error":"#REF!"}},{"$f":"VLOOKUP(F32,#REF!,4,FALSE)","v":{"$error":"#REF!"}},{"$f":"VLOOKUP(F32,'2차'!$E$3:$F$106,2,FALSE)","v":"경기도 안산시 단원구 원곡초길 9"},"이은지","경기대학교","010-6605-9560"]
["경기","운천초등학교",{"$f":"COUNTIF('3차 모집 학교_15개교'!$E$4:$E$18,전체학교명부!B33)","v":0},null,"TH(Teaching Human)","운천초등학교",{"$f":"VLOOKUP(F33,#REF!,2,FALSE)","v":{"$error":"#REF!"}},{"$f":"VLOOKUP(F33,#REF!,4,FALSE)","v":{"$error":"#REF!"}},{"$f":"VLOOKUP(F33,'2차'!$E$3:$F$106,2,FALSE)","v":"경기도 오산시 운암로 116"},"어효","한국기술교육대","010-4242-8199"]
["경기","평택성동초등학교",{"$f":"COUNTIF('3차 모집 학교_15개교'!$E$4:$E$18,전체학교명부!B34)","v":0},null,"운김","평택성동초등학교",{"$f":"VLOOKUP(F34,#REF!,2,FALSE)","v":{"$error":"#REF!"}},{"$f":"VLOOKUP(F34,#REF!,4,FALSE)","v":{"$error":"#REF!"}},{"$f":"VLOOKUP(F34,'2차'!$E$3:$F$106,2,FALSE)","v":{"$error":"#N/A"}},"김예은","춘천교육대학교",0]
["경기","현일초등학교",{"$f":"COUNTIF('3차 모집 학교_15개교'!$E$4:$E$18,전체학교명부!B35)","v":0},null,"꽃봉오리","현일초등학교",{"$f":"VLOOKUP(F35,#REF!,2,FALSE)","v":{"$error":"#REF!"}},{"$f":"VLOOKUP(F35,#REF!,4,FALSE)","v":{"$error":"#REF!"}},{"$f":"VLOOKUP(F35,'2차'!$E$3:$F$106,2,FALSE)","v":"경기도 평택시 안중읍 현화중앙길 83"},"서승아","한경대학교","010-6713-3723"]
["경기","화성반월초등학교",{"$f":"COUNTIF('3차 모집 학교_15개교'!$E$4:$E$18,전체학교명부!B36)","v":0},null,"위알어팀","화성반월초등학교",{"$f":"VLOOKUP(F36,#REF!,2,FALSE)","v":{"$error":"#REF!"}},{"$f":"VLOOKUP(F36,#REF!,4,FALSE)","v":{"$error":"#REF!"}},{"$f":"VLOOKUP(F36,'2차'!$E$3:$F$106,2,FALSE)","v":{"$error":"#N/A"}},"이예진","이화여자대학교",0]
["강원","영월초등학교",{"$f":"COUNTIF('3차 모집 학교_15개교'!$E$4:$E$18,전체학교명부!B37)","v":1},null,0,"영월초등학교",{"$f":"VLOOKUP(F37,#REF!,2,FALSE)","v":{"$error":"#REF!"}},{"$f":"VLOOKUP(F37,#REF!,4,FALSE)","v":{"$error":"#REF!"}},{"$f":"VLOOKUP(F37,'2차'!$E$3:$F$106,2,FALSE)","v":"강원도 영월군 영월읍 하송안길 100"},0,0,0]
["충남","수정초등학교",{"$f":"COUNTIF('3차 모집 학교_15개교'!$E$4:$E$18,전체학교명부!B38)","v":0},null,"늘벗","수정초등학교",{"$f":"VLOOKUP(F38,#REF!,2,FALSE)","v":{"$error":"#REF!"}},{"$f":"VLOOKUP(F38,#REF!,4,FALSE)","v":{"$error":"#REF!"}},{"$f":"VLOOKUP(F38,'2차'!$E$3:$F$106,2,FALSE)","v":{"$error":"#N/A"}},"최광수","한밭대학교",0]
["충남","공주금학초등학교",{"$f":"COUNTIF('3차 모집 학교_15개교'!$E$4:$E$18,전체학교명부!B39)","v":0},null,"쑥쑥자라라","공주금학초등학교",{"$f":"VLOOKUP(F39,#REF!,2,FALSE)","v":{"$error":"#REF!"}},{"$f":"VLOOKUP(F39,#REF!,4,FALSE)","v":{"$error":"#REF!"}},{"$f":"VLOOKUP(F39,'2차'!$E$3:$F$106,2,FALSE)","v":{"$error":"#N/A"}},"라민영","공주대학교",0]
["충남","공주중동초등학교",{"$f":"COUNTIF('3차 모집 학교_15개교'!$E$4:$E$18,전체학교명부!B40)","v":0},null,"믹스팀(Mix STEAM)","공주중동초등학교",{"$f":"VLOOKUP(F40,#REF!,2,FALSE)","v":{"$error":"#REF!"}},{"$f":"VLOOKUP(F40,#REF!,4,FALSE)","v":{"$error":"#REF!"}},{"$f":"VLOOKUP(F40,'2차'!$E$3:$F$106,2,FALSE)","v":{"$error":"#N/A"}},"윤수한","공주교육대학교",0]
["충남","기산초등학교",{"$f":"COUNTIF('3차 모집 학교_15개교'!$E$4:$E$18,전체학교명부!B41)","v":1},null,0,"기산초등학교",{"$f":"VLOOKUP(F41,#REF!,2,FALSE)","v":{"$error":"#REF!"}},{"$f":"VLOOKUP(F41,#REF!,4,FALSE)","v":{"$error":"#REF!"}},{"$f":"VLOOKUP(F41,'2차'!$E$3:$F$106,2,FALSE)","v":"충남 서천군 기산면 기산길 108"},0,0,0]
["충남","남양초등학교",{"$f":"COUNTIF('3차 모집 학교_15개교'!$E$4:$E$18,전체학교명부!B42)","v":0},null,"STARDUST","남양초등학교",{"$f":"VLOOKUP(F42,#REF!,2,FALSE)","v":{"$error":"#REF!"}},{"$f":"VLOOKUP(F42,#REF!,4,FALSE)","v":{"$error":"#REF!"}},{"$f":"VLOOKUP(F42,'2차'!$E$3:$F$106,2,FALSE)","v":{"$error":"#N/A"}},"김지형","한국기술교육대",0]
["충남","서면초등학교",{"$f":"COUNTIF('3차 모집 학교_15개교'!$E$4:$E$18,전체학교명부!B43)","v":0},null,"여고식스","서면초등학교",{"$f":"VLOOKUP(F43,#REF!,2,FALSE)","v":{"$error":"#REF!"}},{"$f":"VLOOKUP(F43,#REF!,4,FALSE)","v":{"$error":"#REF!"}},{"$f":"VLOOKUP(F43,'2차'!$E$3:$F$106,2,FALSE)","v":{"$error":"#N/A"}},"김윤희","초당대학교",0]
["충남","수덕초등학교",{"$f":"COUNTIF('3차 모집 학교_15개교'!$E$4:$E$18,전체학교명부!B44)","v":0},null,"아띠","수덕초등학교",{"$f":"VLOOKUP(F44,#REF!,2,FALSE)","v":{"$error":"#REF!"}},{"$f":"VLOOKUP(F44,#REF!,4,FALSE)","v":{"$error":"#REF!"}},{"$f":"VLOOKUP(F44,'2차'!$E$3:$F$106,2,FALSE)","v":{"$error":"#N/A"}},"이지원","충남대학교",0]
["충남","인세초등학교",{"$f":"COUNTIF('3차 모집 학교_15개교'!$E$4:$E$18,전체학교명부!B45)","v":0},null,"곤줄박이","인세초등학교",{"$f":"VLOOKUP(F45,#REF!,2,FALSE)","v":{"$error":"#REF!"}},{"$f":"VLOOKUP(F45,#REF!,4,FALSE)","v":{"$error":"#REF!"}},{"$f":"VLOOKUP(F45,'2차'!$E$3:$F$106,2,FALSE)","v":{"$error":"#N/A"}},"김혜진","공주대학교",0]
["충남","태봉초등학교",{"$f":"COUNTIF('3차 모집 학교_15개교'!$E$4:$E$18,전체학교명부!B46)","v":0},null,"STEAMER","태봉초등학교",{"$f":"VLOOKUP(F46,#REF!,2,FALSE)","v":{"$error":"#REF!"}},{"$f":"VLOOKUP(F46,#REF!,4,FALSE)","v":{"$error":"#REF!"}},{"$f":"VLOOKUP(F46,'2차'!$E$3:$F$106,2,FALSE)","v":"충남 공주시 원태봉길 57"},"김재현","공주교육대학교","010-6258-5593"]
["충남","남이초등학교",{"$f":"COUNTIF('3차 모집 학교_15개교'!$E$4:$E$18,전체학교명부!B47)","v":0},null,"TOP","남이초등학교",{"$f":"VLOOKUP(F47,#REF!,2,FALSE)","v":{"$error":"#REF!"}},{"$f":"VLOOKUP(F47,#REF!,4,FALSE)","v":{"$error":"#REF!"}},{"$f":"VLOOKUP(F47,'2차'!$E$3:$F$106,2,FALSE)","v":"충남 금산군 남이면 진악로 51"},"김나경","공주대학교","010-4411-6103"]
["전북","남원월락초등학교",{"$f":"COUNTIF('3차 모집 학교_15개교'!$E$4:$E$18,전체학교명부!B48)","v":0},null,"스팀크스","남원월락초등학교",{"$f":"VLOOKUP(F48,#REF!,2,FALSE)","v":{"$error":"#REF!"}},{"$f":"VLOOKUP(F48,#REF!,4,FALSE)","v":{"$error":"#REF!"}},{"$f":"VLOOKUP(F48,'2차'!$E$3:$F$106,2,FALSE)","v":{"$error":"#N/A"}},"박주은","성균관대학교",0]
["전북","전주서문초등학교",{"$f":"COUNTIF('3차 모집 학교_15개교'!$E$4:$E$18,전체학교명부!B49)","v":0},null,"PET","전주서문초등학교",{"$f":"VLOOKUP(F49,#REF!,2,FALSE)","v":{"$error":"#REF!"}},{"$f":"VLOOKUP(F49,#REF!,4,FALSE)","v":{"$error":"#REF!"}},{"$f":"VLOOKUP(F49,'2차'!$E$3:$F$106,2,FALSE)","v":{"$error":"#N/A"}},"문영웅","충남대학교",0]
["경북","호계초등학교",1,null,{"$error":"#N/A"},"호계초등학교",{"$f":"VLOOKUP(F50,#REF!,2,FALSE)","v":{"$error":"#REF!"}},{"$f":"VLOOKUP(F50,#REF!,4,FALSE)","v":{"$error":"#REF!"}},{"$f":"VLOOKUP(F50,'2차'!$E$3:$F$106,2,FALSE)","v":{"$error":"#N/A"}},{"$error":"#N/A"},{"$error":"#N/A"},{"$error":"#N/A"}]
["경남","덕계초등학교",{"$f":"COUNTIF('3차 모집 학교_15개교'!$E$4:$E$18,전체학교명부!B51)","v":0},null,"미래를너희에게","덕계초등학교",{"$f":"VLOOKUP(F51,#REF!,2,FALSE)","v":{"$error":"#REF!"}},{"$f":"VLOOKUP(F51,#REF!,4,FALSE)","v":{"$error":"#REF!"}},{"$f":"VLOOKUP(F51,'2차'!$E$3:$F$106,2,FALSE)","v":{"$error":"#N/A"}},"김준우","동국대학교(경주)",0]
["경남","무동초등학교",{"$f":"COUNTIF('3차 모집 학교_15개교'!$E$4:$E$18,전체학교명부!B52)","v":0},null,{"$error":"#N/A"},"무동초등학교",{"$f":"VLOOKUP(F52,#REF!,2,FALSE)","v":{"$error":"#REF!"}},{"$f":"VLOOKUP(F52,#REF!,4,FALSE)","v":{"$error":"#REF!"}},{"$f":"VLOOKUP(F52,'2차'!$E$3:$F$106,2,FALSE)","v":{"$error":"#N/A"}},{"$error":"#N/A"},{"$error":"#N/A"},{"$error":"#N/A"}]
["경남","삼방초등학교",{"$f":"COUNTIF('3차 모집 학교_15개교'!$E$4:$E$18,전체학교명부!B53)","v":1},null,{"$error":"#N/A"},"삼방초등학교",{"$f":"VLOOKUP(F53,#REF!,2,FALSE)","v":{"$error":"#REF!"}},{"$f":"VLOOKUP(F53,#REF!,4,FALSE)","v":{"$error":"#REF!"}},{"$f":"VLOOKUP(F53,'2차'!$E$3:$F$106,2,FALSE)","v":{"$error":"#N/A"}},{"$error":"#N/A"},{"$error":"#N/A"},{"$error":"#N/A"}]
["경남","수남초등학교",{"$f":"COUNTIF('3차 모집 학교_15개교'!$E$4:$E$18,전체학교명부!B54)","v":1},null,{"$error":"#N/A"},"수남초등학교",{"$f":"VLOOKUP(F54,#REF!,2,FALSE)","v":{"$error":"#REF!"}},{"$f":"VLOOKUP(F54,#REF!,4,FALSE)","v":{"$error":"#REF!"}},{"$f":"VLOOKUP(F54,'2차'!$E$3:$F$106,2,FALSE)","v":{"$error":"#N/A"}},{"$error":"#N/A"},{"$error":"#N/A"},{"$error":"#N/A"}]
["경남","호계초등학교",1,null,{"$error":"#N/A"},"호계초등학교",{"$f":"VLOOKUP(F55,#REF!,2,FALSE)","v":{"$error":"#REF!"}},{"$f":"VLOOKUP(F55,#REF!,4,FALSE)","v":{"$error":"#REF!"}},{"$f":"VLOOKUP(F55,'2차'!$E$3:$F$106,2,FALSE)","v":{"$error":"#N/A"}},{"$error":"#N/A"},{"$error":"#N/A"},{"$error":"#N/A"}]
["경남","회원초등학교",{"$f":"COUNTIF('3차 모집 학교_15개교'!$E$4:$E$18,전체학교명부!B56)","v":0},null,"꿈나무","회원초등학교",{"$f":"VLOOKUP(F56,#REF!,2,FALSE)","v":{"$error":"#REF!"}},{"$f":"VLOOKUP(F56,#REF!,4,FALSE)","v":{"$error":"#REF!"}},{"$f":"VLOOKUP(F56,'2차'!$E$3:$F$106,2,FALSE)","v":{"$error":"#N/A"}},"박성애","대구대학교",0]
["서울","광신중학교",{"$f":"COUNTIF('3차 모집 학교_15개교'!$E$4:$E$18,전체학교명부!B57)","v":0},null,"믹스팀","광신중학교",{"$f":"VLOOKUP(F57,#REF!,2,FALSE)","v":{"$error":"#REF!"}},{"$f":"VLOOKUP(F57,#REF!,4,FALSE)","v":{"$error":"#REF!"}},{"$f":"VLOOKUP(F57,'2차'!$E$3:$F$106,2,FALSE)","v":{"$error":"#N/A"}},"구교빈","건국대학교",0]
["서울","대명중학교",{"$f":"COUNTIF('3차 모집 학교_15개교'!$E$4:$E$18,전체학교명부!B58)","v":0},null,"너울가지","대명중학교",{"$f":"VLOOKUP(F58,#REF!,2,FALSE)","v":{"$error":"#REF!"}},{"$f":"VLOOKUP(F58,#REF!,4,FALSE)","v":{"$error":"#REF!"}},{"$f":"VLOOKUP(F58,'2차'!$E$3:$F$106,2,FALSE)","v":{"$error":"#N/A"}},"김정은","한양대학교 ERICA",0]
["서울","마포중학교",{"$f":"COUNTIF('3차 모집 학교_15개교'!$E$4:$E$18,전체학교명부!B59)","v":0},null,"G.I.S","마포중학교",{"$f":"VLOOKUP(F59,#REF!,2,FALSE)","v":{"$error":"#REF!"}},{"$f":"VLOOKUP(F59,#REF!,4,FALSE)","v":{"$error":"#REF!"}},{"$f":"VLOOKUP(F59,'2차'!$E$3:$F$106,2,FALSE)","v":{"$error":"#N/A"}},"최원빈","서울대학교",0]
["서울","연서중학교",{"$f":"COUNTIF('3차 모집 학교_15개교'!$E$4:$E$18,전체학교명부!B60)","v":0},null,"숭하다","연서중학교",{"$f":"VLOOKUP(F60,#REF!,2,FALSE)","v":{"$error":"#REF!"}},{"$f":"VLOOKUP(F60,#REF!,4,FALSE)","v":{"$error":"#REF!"}},{"$f":"VLOOKUP(F60,'2차'!$E$3:$F$106,2,FALSE)","v":{"$error":"#N/A"}},"백경만","숭실대학교",0]
["서울","예일여자중학교",{"$f":"COUNTIF('3차 모집 학교_15개교'!$E$4:$E$18,전체학교명부!B61)","v":0},null,"어우름","예일여자중학교",{"$f":"VLOOKUP(F61,#REF!,2,FALSE)","v":{"$error":"#REF!"}},{"$f":"VLOOKUP(F61,#REF!,4,FALSE)","v":{"$error":"#REF!"}},{"$f":"VLOOKUP(F61,'2차'!$E$3:$F$106,2,FALSE)","v":{"$error":"#N/A"}},"정동준","대진대학교",0]
["서울","장평중학교",{"$f":"COUNTIF('3차 모집 학교_15개교'!$E$4:$E$18,전체학교명부!B62)","v":0},null,"어처구니","장평중학교",{"$f":"VLOOKUP(F62,#REF!,2,FALSE)","v":{"$error":"#REF!"}},{"$f":"VLOOKUP(F62,#REF!,4,FALSE)","v":{"$error":"#REF!"}},{"$f":"VLOOKUP(F62,'2차'!$E$3:$F$106,2,FALSE)","v":{"$error":"#N/A"}},"김유진","동국대학교",0]
["서울","천호중학교",{"$f":"COUNTIF('3차 모집 학교_15개교'!$E$4:$E$18,전체학교명부!B63)","v":0},null,"꿈이뭐조","천호중학교",{"$f":"VLOOKUP(F63,#REF!,2,FALSE)","v":{"$error":"#REF!"}},{"$f":"VLOOKUP(F63,#REF!,4,FALSE)","v":{"$error":"#REF!"}},{"$f":"VLOOKUP(F63,'2차'!$E$3:$F$106,2,FALSE)","v":{"$error":"#N/A"}},"심유리","성신여자대학교",0]
["서울","대원여자고등학교",{"$f":"COUNTIF('3차 모집 학교_15개교'!$E$4:$E$18,전체학교명부!B64)","v":0},null,"CRACKER","대원여자고등학교",{"$f":"VLOOKUP(F64,#REF!,2,FALSE)","v":{"$error":"#REF!"}},{"$f":"VLOOKUP(F64,#REF!,4,FALSE)","v":{"$error":"#REF!"}},{"$f":"VLOOKUP(F64,'2차'!$E$3:$F$106,2,FALSE)","v":{"$error":"#N/A"}},"조영슬","한양대학교",0]
["서울","숭의여자고등학교",{"$f":"COUNTIF('3차 모집 학교_15개교'!$E$4:$E$18,전체학교명부!B65)","v":0},null,"OAO","숭의여자고등학교",{"$f":"VLOOKUP(F65,#REF!,2,FALSE)","v":{"$error":"#REF!"}},{"$f":"VLOOKUP(F65,#REF!,4,FALSE)","v":{"$error":"#REF!"}},{"$f":"VLOOKUP(F65,'2차'!$E$3:$F$106,2,FALSE)","v":{"$error":"#N/A"}},"오주영","중앙대학교",0]
["서울","신일고등학교",{"$f":"COUNTIF('3차 모집 학교_15개교'!$E$4:$E$18,전체학교명부!B66)","v":0},null,"두부머리","신일고등학교",{"$f":"VLOOKUP(F66,#REF!,2,FALSE)","v":{"$error":"#REF!"}},{"$f":"VLOOKUP(F66,#REF!,4,FALSE)","v":{"$error":"#REF!"}},{"$f":"VLOOKUP(F66,'2차'!$E$3:$F$106,2,FALSE)","v":"서울시 강북구 미아동 솔매로 49"},"김동하","서울과학\n기술대학교","010-2521-1487"]
["서울","은광여자고등학교",{"$f":"COUNTIF('3차 모집 학교_15개교'!$E$4:$E$18,전체학교명부!B67)","v":0},null,"찜!","은광여자고등학교",{"$f":"VLOOKUP(F67,#REF!,2,FALSE)","v":{"$error":"#REF!"}},{"$f":"VLOOKUP(F67,#REF!,4,FALSE)","v":{"$error":"#REF!"}},{"$f":"VLOOKUP(F67,'2차'!$E$3:$F$106,2,FALSE)","v":{"$error":"#N/A"}},"강아현","숭실대학교",0]
["서울","인창고등학교",{"$f":"COUNTIF('3차 모집 학교_15개교'!$E$4:$E$18,전체학교명부!B68)","v":0},null,"청포도","인창고등학교",{"$f":"VLOOKUP(F68,#REF!,2,FALSE)","v":{"$error":"#REF!"}},{"$f":"VLOOKUP(F68,#REF!,4,FALSE)","v":{"$error":"#REF!"}},{"$f":"VLOOKUP(F68,'2차'!$E$3:$F$106,2,FALSE)","v":{"$error":"#N/A"}},"함성보","선문대학교",0]
["서울","풍문여자고등학교",{"$f":"COUNTIF('3차 모집 학교_15개교'!$E$4:$E$18,전체학교명부!B69)","v":0},null,"My Bottle (마이벗뜰)","풍문여자고등학교",{"$f":"VLOOKUP(F69,#REF!,2,FALSE)","v":{"$error":"#REF!"}},{"$f":"VLOOKUP(F69,#REF!,4,FALSE)","v":{"$error":"#REF!"}},{"$f":"VLOOKUP(F69,'2차'!$E$3:$F$106,2,FALSE)","v":{"$error":"#N/A"}},"김태윤","이화여자대학교",0]
["부산","가락중학교",{"$f":"COUNTIF('3차 모집 학교_15개교'!$E$4:$E$18,전체학교명부!B70)","v":0},null,"포항촌놈들","가락중학교",{"$f":"VLOOKUP(F70,#REF!,2,FALSE)","v":{"$error":"#REF!"}},{"$f":"VLOOKUP(F70,#REF!,4,FALSE)","v":{"$error":"#REF!"}},{"$f":"VLOOKUP(F70,'2차'!$E$3:$F$106,2,FALSE)","v":{"$error":"#N/A"}},"정성욱","포항공과대학교",0]
["대구","서남중학교",{"$f":"COUNTIF('3차 모집 학교_15개교'!$E$4:$E$18,전체학교명부!B71)","v":0},null,"E판師판","서남중학교",{"$f":"VLOOKUP(F71,#REF!,2,FALSE)","v":{"$error":"#REF!"}},{"$f":"VLOOKUP(F71,#REF!,4,FALSE)","v":{"$error":"#REF!"}},{"$f":"VLOOKUP(F71,'2차'!$E$3:$F$106,2,FALSE)","v":{"$error":"#N/A"}},"주병규","경북대학교",0]
["대구","서진중학교",{"$f":"COUNTIF('3차 모집 학교_15개교'!$E$4:$E$18,전체학교명부!B72)","v":0},null,"무지개","서진중학교",{"$f":"VLOOKUP(F72,#REF!,2,FALSE)","v":{"$error":"#REF!"}},{"$f":"VLOOKUP(F72,#REF!,4,FALSE)","v":{"$error":"#REF!"}},{"$f":"VLOOKUP(F72,'2차'!$E$3:$F$106,2,FALSE)","v":{"$error":"#N/A"}},"김수현","대구대학교",0]
["대구","강북고등학교",{"$f":"COUNTIF('3차 모집 학교_15개교'!$E$4:$E$18,전체학교명부!B73)","v":0},null,0,"강북고등학교",{"$f":"VLOOKUP(F73,#REF!,2,FALSE)","v":{"$error":"#REF!"}},{"$f":"VLOOKUP(F73,#REF!,4,FALSE)","v":{"$error":"#REF!"}},{"$f":"VLOOKUP(F73,'2차'!$E$3:$F$106,2,FALSE)","v":"대구광역시 북구 태전로 100"},0,0,0]
["대구","경일여자고등학교",{"$f":"COUNTIF('3차 모집 학교_15개교'!$E$4:$E$18,전체학교명부!B74)","v":0},null,"피노키오","경일여자고등학교",{"$f":"VLOOKUP(F74,#REF!,2,FALSE)","v":{"$error":"#REF!"}},{"$f":"VLOOKUP(F74,#REF!,4,FALSE)","v":{"$error":"#REF!"}},{"$f":"VLOOKUP(F74,'2차'!$E$3:$F$106,2,FALSE)","v":"대구시 남구 효성로 37(봉덕동)"},"박정광","경북대학교","010-3526-4579"]
["대구","상인고등학교",{"$f":"COUNTIF('3차 모집 학교_15개교'!$E$4:$E$18,전체학교명부!B75)","v":0},null,"과학이홍익인간","상인고등학교",{"$f":"VLOOKUP(F75,#REF!,2,FALSE)","v":{"$error":"#REF!"}},{"$f":"VLOOKUP(F75,#REF!,4,FALSE)","v":{"$error":"#REF!"}},{"$f":"VLOOKUP(F75,'2차'!$E$3:$F$106,2,FALSE)","v":{"$error":"#N/A"}},"김전수","대구대학교",0]
["인천","인천석남중학교",{"$f":"COUNTIF('3차 모집 학교_15개교'!$E$4:$E$18,전체학교명부!B76)","v":0},null,"파스타","인천석남중학교",{"$f":"VLOOKUP(F76,#REF!,2,FALSE)","v":{"$error":"#REF!"}},{"$f":"VLOOKUP(F76,#REF!,4,FALSE)","v":{"$error":"#REF!"}},{"$f":"VLOOKUP(F76,'2차'!$E$3:$F$106,2,FALSE)","v":{"$error":"#N/A"}},"김지수","중앙대학교",0]
["광주","숭의중학교",{"$f":"COUNTIF('3차 모집 학교_15개교'!$E$4:$E$18,전체학교명부!B77)","v":0},null,"3M (Mentor Makes Men)","숭의중학교",{"$f":"VLOOKUP(F77,#REF!,2,FALSE)","v":{"$error":"#REF!"}},{"$f":"VLOOKUP(F77,#REF!,4,FALSE)","v":{"$error":"#REF!"}},{"$f":"VLOOKUP(F77,'2차'!$E$3:$F$106,2,FALSE)","v":{"$error":"#N/A"}},"이윤호","전남대학교",0]
["광주","조선대학교여자고등학교",{"$f":"COUNTIF('3차 모집 학교_15개교'!$E$4:$E$18,전체학교명부!B78)","v":0},null,"과드득","조선대학교여자고등학교",{"$f":"VLOOKUP(F78,#REF!,2,FALSE)","v":{"$error":"#REF!"}},{"$f":"VLOOKUP(F78,#REF!,4,FALSE)","v":{"$error":"#REF!"}},{"$f":"VLOOKUP(F78,'2차'!$E$3:$F$106,2,FALSE)","v":{"$error":"#N/A"}},"김한솔","조선대학교",0]
["대전","대전남선중학교",{"$f":"COUNTIF('3차 모집 학교_15개교'!$E$4:$E$18,전체학교명부!B79)","v":0},null,"Burn Young","대전남선중학교",{"$f":"VLOOKUP(F79,#REF!,2,FALSE)","v":{"$error":"#REF!"}},{"$f":"VLOOKUP(F79,#REF!,4,FALSE)","v":{"$error":"#REF!"}},{"$f":"VLOOKUP(F79,'2차'!$E$3:$F$106,2,FALSE)","v":{"$error":"#N/A"}},"오인석","충남대학교",0]
["대전","대전봉우중학교",{"$f":"COUNTIF('3차 모집 학교_15개교'!$E$4:$E$18,전체학교명부!B80)","v":0},null,"충멋이들","대전봉우중학교",{"$f":"VLOOKUP(F80,#REF!,2,FALSE)","v":{"$error":"#REF!"}},{"$f":"VLOOKUP(F80,#REF!,4,FALSE)","v":{"$error":"#REF!"}},{"$f":"VLOOKUP(F80,'2차'!$E$3:$F$106,2,FALSE)","v":{"$error":"#N/A"}},"이채형","충남대학교",0]
["대전","대전동산고등학교",{"$f":"COUNTIF('3차 모집 학교_15개교'!$E$4:$E$18,전체학교명부!B81)","v":0},null,"성모짱","대전동산고등학교",{"$f":"VLOOKUP(F81,#REF!,2,FALSE)","v":{"$error":"#REF!"}},{"$f":"VLOOKUP(F81,#REF!,4,FALSE)","v":{"$error":"#REF!"}},{"$f":"VLOOKUP(F81,'2차'!$E$3:$F$106,2,FALSE)","v":"대전광역시 중구 문화로 183(문화동)"},"윤지혜","한밭대학교","010-7710-4556"]
["경기","구갈중학교",{"$f":"COUNTIF('3차 모집 학교_15개교'!$E$4:$E$18,전체학교명부!B82)","v":0},null,"STEAM너나들이","구갈중학교",{"$f":"VLOOKUP(F82,#REF!,2,FALSE)","v":{"$error":"#REF!"}},{"$f":"VLOOKUP(F82,#REF!,4,FALSE)","v":{"$error":"#REF!"}},{"$f":"VLOOKUP(F82,'2차'!$E$3:$F$106,2,FALSE)","v":{"$error":"#N/A"}},"이홍목","단국대학교",0]
["경기","남문중학교",{"$f":"COUNTIF('3차 모집 학교_15개교'!$E$4:$E$18,전체학교명부!B83)","v":0},null,"Chef","남문중학교",{"$f":"VLOOKUP(F83,#REF!,2,FALSE)","v":{"$error":"#REF!"}},{"$f":"VLOOKUP(F83,#REF!,4,FALSE)","v":{"$error":"#REF!"}},{"$f":"VLOOKUP(F83,'2차'!$E$3:$F$106,2,FALSE)","v":{"$error":"#N/A"}},"최규환","경희대학교",0]
["경기","법원여자중학교",{"$f":"COUNTIF('3차 모집 학교_15개교'!$E$4:$E$18,전체학교명부!B84)","v":1},null,0,"법원여자중학교",{"$f":"VLOOKUP(F84,#REF!,2,FALSE)","v":{"$error":"#REF!"}},{"$f":"VLOOKUP(F84,#REF!,4,FALSE)","v":{"$error":"#REF!"}},{"$f":"VLOOKUP(F84,'2차'!$E$3:$F$106,2,FALSE)","v":"경기도 파주시 법원읍 자운서원로 31번"},0,0,0]
["경기","수원중학교",{"$f":"COUNTIF('3차 모집 학교_15개교'!$E$4:$E$18,전체학교명부!B85)","v":0},null,"풍생","수원중학교",{"$f":"VLOOKUP(F85,#REF!,2,FALSE)","v":{"$error":"#REF!"}},{"$f":"VLOOKUP(F85,#REF!,4,FALSE)","v":{"$error":"#REF!"}},{"$f":"VLOOKUP(F85,'2차'!$E$3:$F$106,2,FALSE)","v":"수원시 팔달구 정조로 660-10 (매교동)"},"이동훈","동국대학교 ","010-7576-1816"]
["경기","양지중학교",{"$f":"COUNTIF('3차 모집 학교_15개교'!$E$4:$E$18,전체학교명부!B86)","v":1},null,0,"양지중학교",{"$f":"VLOOKUP(F86,#REF!,2,FALSE)","v":{"$error":"#REF!"}},{"$f":"VLOOKUP(F86,#REF!,4,FALSE)","v":{"$error":"#REF!"}},{"$f":"VLOOKUP(F86,'2차'!$E$3:$F$106,2,FALSE)","v":"경기도 안산시 단원구 안산천 남로 119"},0,0,0]
["경기","어유중학교",{"$f":"COUNTIF('3차 모집 학교_15개교'!$E$4:$E$18,전체학교명부!B87)","v":1},null,0,"어유중학교",{"$f":"VLOOKUP(F87,#REF!,2,FALSE)","v":{"$error":"#REF!"}},{"$f":"VLOOKUP(F87,#REF!,4,FALSE)","v":{"$error":"#REF!"}},{"$f":"VLOOKUP(F87,'2차'!$E$3:$F$106,2,FALSE)","v":"경기도 파주시 율곡로 2875"},0,0,0]
["경기","오산중학교",{"$f":"COUNTIF('3차 모집 학교_15개교'!$E$4:$E$18,전체학교명부!B88)","v":0},null,"이끼","오산중학교",{"$f":"VLOOKUP(F88,#REF!,2,FALSE)","v":{"$error":"#REF!"}},{"$f":"VLOOKUP(F88,#REF!,4,FALSE)","v":{"$error":"#REF!"}},{"$f":"VLOOKUP(F88,'2차'!$E$3:$F$106,2,FALSE)","v":{"$error":"#N/A"}},"박예은","서울여자대학교",0]
["경기","회천중학교",{"$f":"COUNTIF('3차 모집 학교_15개교'!$E$4:$E$18,전체학교명부!B89)","v":0},null,"DJ_Bean","회천중학교",{"$f":"VLOOKUP(F89,#REF!,2,FALSE)","v":{"$error":"#REF!"}},{"$f":"VLOOKUP(F89,#REF!,4,FALSE)","v":{"$error":"#REF!"}},{"$f":"VLOOKUP(F89,'2차'!$E$3:$F$106,2,FALSE)","v":"경기도 양주시 고암길 77 회천중학교"},"조현동","대진대학교","010-9988-9114"]
["경기","동화고등학교",{"$f":"COUNTIF('3차 모집 학교_15개교'!$E$4:$E$18,전체학교명부!B90)","v":0},null,"스타트","동화고등학교",{"$f":"VLOOKUP(F90,#REF!,2,FALSE)","v":{"$error":"#REF!"}},{"$f":"VLOOKUP(F90,#REF!,4,FALSE)","v":{"$error":"#REF!"}},{"$f":"VLOOKUP(F90,'2차'!$E$3:$F$106,2,FALSE)","v":{"$error":"#N/A"}},"이수지","가천대학교",0]
["경기","복정고등학교",{"$f":"COUNTIF('3차 모집 학교_15개교'!$E$4:$E$18,전체학교명부!B91)","v":0},null,"스팀앤탐스(STEAM & TOMS)","복정고등학교",{"$f":"VLOOKUP(F91,#REF!,2,FALSE)","v":{"$error":"#REF!"}},{"$f":"VLOOKUP(F91,#REF!,4,FALSE)","v":{"$error":"#REF!"}},{"$f":"VLOOKUP(F91,'2차'!$E$3:$F$106,2,FALSE)","v":{"$error":"#N/A"}},"정성범","단국대학교",0]
["경기","시흥매화고등학교",{"$f":"COUNTIF('3차 모집 학교_15개교'!$E$4:$E$18,전체학교명부!B92)","v":0},null,"메타몽","시흥매화고등학교",{"$f":"VLOOKUP(F92,#REF!,2,FALSE)","v":{"$error":"#REF!"}},{"$f":"VLOOKUP(F92,#REF!,4,FALSE)","v":{"$error":"#REF!"}},{"$f":"VLOOKUP(F92,'2차'!$E$3:$F$106,2,FALSE)","v":{"$error":"#N/A"}},"백승혁","전주대학교",0]
["경기","와부고등학교",{"$f":"COUNTIF('3차 모집 학교_15개교'!$E$4:$E$18,전체학교명부!B93)","v":0},null,"상상력","와부고등학교",{"$f":"VLOOKUP(F93,#REF!,2,FALSE)","v":{"$error":"#REF!"}},{"$f":"VLOOKUP(F93,#REF!,4,FALSE)","v":{"$error":"#REF!"}},{"$f":"VLOOKUP(F93,'2차'!$E$3:$F$106,2,FALSE)","v":{"$error":"#N/A"}},"임수빈","경희대학교",0]
["경기","일산동고등학교",{"$f":"COUNTIF('3차 모집 학교_15개교'!$E$4:$E$18,전체학교명부!B94)","v":0},null,"더알려조","일산동고등학교",{"$f":"VLOOKUP(F94,#REF!,2,FALSE)","v":{"$error":"#REF!"}},{"$f":"VLOOKUP(F94,#REF!,4,FALSE)","v":{"$error":"#REF!"}},{"$f":"VLOOKUP(F94,'2차'!$E$3:$F$106,2,FALSE)","v":{"$error":"#N/A"}},"박하은","홍익대학교",0]
["경기","천천고등학교",{"$f":"COUNTIF('3차 모집 학교_15개교'!$E$4:$E$18,전체학교명부!B95)","v":0},null,"포스콜","천천고등학교",{"$f":"VLOOKUP(F95,#REF!,2,FALSE)","v":{"$error":"#REF!"}},{"$f":"VLOOKUP(F95,#REF!,4,FALSE)","v":{"$error":"#REF!"}},{"$f":"VLOOKUP(F95,'2차'!$E$3:$F$106,2,FALSE)","v":{"$error":"#N/A"}},"손세희","포항공대",0]
["경기","풍덕고등학교",{"$f":"COUNTIF('3차 모집 학교_15개교'!$E$4:$E$18,전체학교명부!B96)","v":0},null,"싸멘(싸이언스 멘토)","풍덕고등학교",{"$f":"VLOOKUP(F96,#REF!,2,FALSE)","v":{"$error":"#REF!"}},{"$f":"VLOOKUP(F96,#REF!,4,FALSE)","v":{"$error":"#REF!"}},{"$f":"VLOOKUP(F96,'2차'!$E$3:$F$106,2,FALSE)","v":{"$error":"#N/A"}},"유시연","성신여자대학교",0]
["강원","봉의고등학교",{"$f":"COUNTIF('3차 모집 학교_15개교'!$E$4:$E$18,전체학교명부!B97)","v":0},null,"플레어","봉의고등학교",{"$f":"VLOOKUP(F97,#REF!,2,FALSE)","v":{"$error":"#REF!"}},{"$f":"VLOOKUP(F97,#REF!,4,FALSE)","v":{"$error":"#REF!"}},{"$f":"VLOOKUP(F97,'2차'!$E$3:$F$106,2,FALSE)","v":{"$error":"#N/A"}},"심정승","충북대학교",0]
["강원","태백기계공업고등학교",{"$f":"COUNTIF('3차 모집 학교_15개교'!$E$4:$E$18,전체학교명부!B98)","v":1},null,0,"태백기계공업고등학교",{"$f":"VLOOKUP(F98,#REF!,2,FALSE)","v":{"$error":"#REF!"}},{"$f":"VLOOKUP(F98,#REF!,4,FALSE)","v":{"$error":"#REF!"}},{"$f":"VLOOKUP(F98,'2차'!$E$3:$F$106,2,FALSE)","v":"강원도 태백시 평화길 8-24 (장성동)"},0,0,0]
["강원","춘천고등학교",{"$f":"COUNTIF('3차 모집 학교_15개교'!$E$4:$E$18,전체학교명부!B99)","v":0},null,"식스센스","춘천고등학교",{"$f":"VLOOKUP(F99,#REF!,2,FALSE)","v":{"$error":"#REF!"}},{"$f":"VLOOKUP(F99,#REF!,4,FALSE)","v":{"$error":"#REF!"}},{"$f":"VLOOKUP(F99,'2차'!$E$3:$F$106,2,FALSE)","v":"강원도 춘천시 중앙로 68, 37번길"},"조우진","한국교원대학교","010-2994-7243"]
["충남","신창중학교",{"$f":"COUNTIF('3차 모집 학교_15개교'!$E$4:$E$18,전체학교명부!B100)","v":1},null,{"$error":"#N/A"},"신창중학교",{"$f":"VLOOKUP(F100,#REF!,2,FALSE)","v":{"$error":"#REF!"}},{"$f":"VLOOKUP(F100,#REF!,4,FALSE)","v":{"$error":"#REF!"}},{"$f":"VLOOKUP(F100,'2차'!$E$3:$F$106,2,FALSE)","v":{"$error":"#N/A"}},{"$error":"#N/A"},{"$error":"#N/A"},{"$error":"#N/A"}]
["충남","논산고등학교",{"$f":"COUNTIF('3차 모집 학교_15개교'!$E$4:$E$18,전체학교명부!B101)","v":0},null,"steamap","논산고등학교",{"$f":"VLOOKUP(F101,#REF!,2,FALSE)","v":{"$error":"#REF!"}},{"$f":"VLOOKUP(F101,#REF!,4,FALSE)","v":{"$error":"#REF!"}},{"$f":"VLOOKUP(F101,'2차'!$E$3:$F$106,2,FALSE)","v":{"$error":"#N/A"}},"이규림","전북대학교",0]
["충남","천안고등학교",{"$f":"COUNTIF('3차 모집 학교_15개교'!$E$4:$E$18,전체학교명부!B102)","v":0},null,"BMLS","천안고등학교",{"$f":"VLOOKUP(F102,#REF!,2,FALSE)","v":{"$error":"#REF!"}},{"$f":"VLOOKUP(F102,#REF!,4,FALSE)","v":{"$error":"#REF!"}},{"$f":"VLOOKUP(F102,'2차'!$E$3:$F$106,2,FALSE)","v":{"$error":"#N/A"}},"윤기원","나사렛대학교",0]
["전북","전주전일고등학교",{"$f":"COUNTIF('3차 모집 학교_15개교'!$E$4:$E$18,전체학교명부!B103)","v":0},null,"꿈쟁이","전주전일고등학교",{"$f":"VLOOKUP(F103,#REF!,2,FALSE)","v":{"$error":"#REF!"}},{"$f":"VLOOKUP(F103,#REF!,4,FALSE)","v":{"$error":"#REF!"}},{"$f":"VLOOKUP(F103,'2차'!$E$3:$F$106,2,FALSE)","v":{"$error":"#N/A"}},"석정대","전주교육대학교",0]
["경북","도개중학교",{"$f":"COUNTIF('3차 모집 학교_15개교'!$E$4:$E$18,전체학교명부!B104)","v":0},null,"STEAM클럽","도개중학교",{"$f":"VLOOKUP(F104,#REF!,2,FALSE)","v":{"$error":"#REF!"}},{"$f":"VLOOKUP(F104,#REF!,4,FALSE)","v":{"$error":"#REF!"}},{"$f":"VLOOKUP(F104,'2차'!$E$3:$F$106,2,FALSE)","v":{"$error":"#N/A"}},"서현창","충북대학",0]
["경북","진성중학교",{"$f":"COUNTIF('3차 모집 학교_15개교'!$E$4:$E$18,전체학교명부!B105)","v":0},null,"선생님 수업 빨리 마치죠","진성중학교",{"$f":"VLOOKUP(F105,#REF!,2,FALSE)","v":{"$error":"#REF!"}},{"$f":"VLOOKUP(F105,#REF!,4,FALSE)","v":{"$error":"#REF!"}},{"$f":"VLOOKUP(F105,'2차'!$E$3:$F$106,2,FALSE)","v":{"$error":"#N/A"}},"권영기","대구대학교",0]
["경남","합천여자중학교",{"$f":"COUNTIF('3차 모집 학교_15개교'!$E$4:$E$18,전체학교명부!B106)","v":0},null,{"$error":"#N/A"},"합천여자중학교",{"$f":"VLOOKUP(F106,#REF!,2,FALSE)","v":{"$error":"#REF!"}},{"$f":"VLOOKUP(F106,#REF!,4,FALSE)","v":{"$error":"#REF!"}},{"$f":"VLOOKUP(F106,'2차'!$E$3:$F$106,2,FALSE)","v":{"$error":"#N/A"}},{"$error":"#N/A"},{"$error":"#N/A"},{"$error":"#N/A"}]
["경남","물금고등학교",{"$f":"COUNTIF('3차 모집 학교_15개교'!$E$4:$E$18,전체학교명부!B107)","v":0},null,"피그말리온","물금고등학교",{"$f":"VLOOKUP(F107,#REF!,2,FALSE)","v":{"$error":"#REF!"}},{"$f":"VLOOKUP(F107,#REF!,4,FALSE)","v":{"$error":"#REF!"}},{"$f":"VLOOKUP(F107,'2차'!$E$3:$F$106,2,FALSE)","v":{"$error":"#N/A"}},"이영훈","대구대학교",0]
["경남","웅상고등학교",{"$f":"COUNTIF('3차 모집 학교_15개교'!$E$4:$E$18,전체학교명부!B108)","v":0},null,"대물(대구대학교 물리교육과)","웅상고등학교",{"$f":"VLOOKUP(F108,#REF!,2,FALSE)","v":{"$error":"#REF!"}},{"$f":"VLOOKUP(F108,#REF!,4,FALSE)","v":{"$error":"#REF!"}},{"$f":"VLOOKUP(F108,'2차'!$E$3:$F$106,2,FALSE)","v":{"$error":"#N/A"}},"강병창","대구대학교",0]
["경남","진교고등학교",{"$f":"COUNTIF('3차 모집 학교_15개교'!$E$4:$E$18,전체학교명부!B109)","v":0},null,"무지개창창","진교고등학교",{"$f":"VLOOKUP(F109,#REF!,2,FALSE)","v":{"$error":"#REF!"}},{"$f":"VLOOKUP(F109,#REF!,4,FALSE)","v":{"$error":"#REF!"}},{"$f":"VLOOKUP(F109,'2차'!$E$3:$F$106,2,FALSE)","v":{"$error":"#N/A"}},"배혜린","영남대학교",0]
["경남","창원신월고등학교",{"$f":"COUNTIF('3차 모집 학교_15개교'!$E$4:$E$18,전체학교명부!B110)","v":0},null,"SCV(Science Volunteer)","창원신월고등학교",{"$f":"VLOOKUP(F110,#REF!,2,FALSE)","v":{"$error":"#REF!"}},{"$f":"VLOOKUP(F110,#REF!,4,FALSE)","v":{"$error":"#REF!"}},{"$f":"VLOOKUP(F110,'2차'!$E$3:$F$106,2,FALSE)","v":{"$error":"#N/A"}},"방준현","대구대학교",0]
["경남","창원여자고등학교",{"$f":"COUNTIF('3차 모집 학교_15개교'!$E$4:$E$18,전체학교명부!B111)","v":1},null,{"$error":"#N/A"},"창원여자고등학교",{"$f":"VLOOKUP(F111,#REF!,2,FALSE)","v":{"$error":"#REF!"}},{"$f":"VLOOKUP(F111,#REF!,4,FALSE)","v":{"$error":"#REF!"}},{"$f":"VLOOKUP(F111,'2차'!$E$3:$F$106,2,FALSE)","v":{"$error":"#N/A"}},{"$error":"#N/A"},{"$error":"#N/A"},{"$error":"#N/A"}]

{"sheet":"3차 모집 학교_15개교","index":3,"n_rows":29,"n_cols":12,"rows_kept":29,"cut":false,"hidden":false,"merged":[[0,0,0,11]]}
["2015년 대학생과 함께하는 STEAM 운영학교 리스트(15개교)"]
[]
["순번","지역","학교급","학교연락처","학교명","학교주소","운영날짜","수업내용(관련 대학생 전공)","수업학년","수혜학생 실력","희망 대학생 성별","수혜학생 총 수"]
[1,"광주","초","062-520-4363","광주교대부설초등학교","광주광역시 북구 필문대로 55","11.9~12.11\n12.7 제외(기말고사)","녹색 에너지 만들어요!\n-숲 체험하기\n-식물에 대해 탐구해요!\n-에너지 활용 사례 알아보기\n-녹색 에너지 활용 방안 알아보기\n-우리 생활에서 활용할 수 있는 에너지 만들어 보기\n자연을 디자인해요!\n-자연의 모습 그려보기\n-자연을 활용하여 우리 생활에 쓸 수 있는 물건 알아보기\n-자연의 모습을 활용한 디자인 살펴보기\n-자연을 활용한 물건 만들기","2학년","중상","상관없음","96명"]
[2,"경기","초","031-957-5905","새금초등학교","경기도 파주시 후곡로 104","11.30~12.4","에너지, 지층화석,공룡(지구, 화학, 생물, 물리 기타 ) \n※ 변경될 수 있음","4,6학년","중","여","240명"]
[3,"경기","초","031-632-7006","신둔초등학교","경기 이천시 신둔면 경충대로 3150번길 82-3","12.7, 12.9, 12.11, 12.14, 12.15","나는 무대 디자이너, 거북이 롤러코스터 만들기","5학년","중","상관없음","50명"]
[4,"경기","중","031-958-0789","법원여자중학교","경기도 파주시 법원읍 자운서원로 31번","12.18~12.24","1. 안전한 다리 만들기(1학년)\n2. 청진기 설계도 작성 및 청진기 만들기(2학년)\n3. 나만의 공포캐릭터 제작하기(3학년)","1,2,3학년","하","남, 여","125명"]
[5,"경기","중","031-489-9747","양지중학교","경기도 안산시 단원구 안산천 남로 119","12.18~12.24","배 만들기(과학/기술), 에어서핑 비행기 만들기(과학/기술/미술), 체세포 복제 생명기술(과학/기술/미술)\n※ 변경될 수 있음","1,2학년 전체","중","상관없음","60명"]
[6,"경기","중","031-958-4372","어유중학교","경기도 파주시 율곡로 2875","12.14~12.18","창의적 자가발전기(물리)","1,2,3학년","중하","상관없음","23명"]
[7,"강원","초","033-370-3107","영월초등학교","강원도 영월군 영월읍 하송안길 100","12.7-11","롤러코스터 만들기 (과학 단원 : 물체의 빠르기) (건축 공학 전공),  마리오네트 인형극 만들기 (과학단원 : 우리 몸의 구조와 기능)\n※ 변경될 수 있음","5학년","중","상관없음","160명"]
[8,"강원","고","033-581-5911","태백기계공업고등학교","강원도 태백시 평화길 8-24 (장성동)","12.14~12.18","수질 정수 방법, 자기발전을 이용한 자동차 만들기\n※ 변경될 수 있음","1,2학년","중하","상관없음","1학년 : 약 70명\n2학년 : 약 70명"]
[9,"충남","초","041-951-3151","기산초등학교","충남 서천군 기산면 기산길 108","12.14-12.18","소중한 나의 몸, 신체 부위별로 합체하기, 그림자는 내친구, 나는 생태탐사 전문가, 바이오 환경 전문가 등\n※ 변경될 수 있음","1,2,3,4,5,6학년 "," 상11명,  중21명,  하6명","상관없음","38명"]
[10,"충남","중","041-542-1139","신창중학교","아산시 신창면 서부남로 667번길 70","12.21~12.24","현미경 속 세상을 통한 이야기, 움직이는 그림을 통한 열과 우리생활 표현하기(생물, 미술, 과학)","1,2,3학년","중","남, 여","189명"]
[11,"경북","초","054-553-7212","호계초등학교","경북 문경시 호계면 막곡길 16","12.14~12.19\n(조정가능)","융합교육관련이면 다 좋습니다.","1~6학년","중","상관없음","62명"]
[12,"경남","초","055-337-7402","삼방초등학교","경상남도 김해시 삼안로 235번길 20 삼방초등학교","12.7-12.11","LED 전구로 나만의 조명 만들기 , 태양광으로 움직이는 물체 만들기 , 테마가 있는 마을 꾸미기(물리 및 에너지 전공 학과, 건축분야관련)","6학년","중","남, 여","163명"]
[13,"경남","초","055-323-4004","수남초등학교","경남 김해시 율하2로 183","12.7~12.11","용액의 농도, 생태계 보호를 위한 환경 프로젝트 운영\n※ 변경될 수 있음","6학년","중","상관없음","140명"]
[14,"경남","초","055-232-9572","호계초등학교","경남 창원시 마산회원구 내서읍 호계리 광려천북로 182","12.14~12.18","태양열조리기, 신재생에너지 활용하기 (환경에너지 전공 학과)","6학년","보통","남, 여 구분 없이 적정비율","275명"]
[15,"경남","고","055-260-1957","창원여자고등학교","창원시 성남구 두대로 153","12.16~12.18","태양광자동차 만들기, 화학전지 등(물리,화학,지구과학 관련)","고2","중~중상","상관없음","118명"]
[{"$f":"IF(B19=\"\",\"\",ROW()-3)","v":""}]
[""]
[""]
{"$rows_empty":7}
[{"$f":"IF(B29=\"\",\"\",ROW()-39)","v":""}]

{"sheet":"매칭결과안내문_학교","index":4,"n_rows":13,"n_cols":11,"rows_kept":13,"cut":false,"hidden":true,"merged":[]}
["안녕하세요."]
["한국과학창의재단 입니다. 저희 재단에 대한 관심과 지원에 먼저 감사드립니다."]
["2015년 대학생과 함께하는 STEAM의 대학생 팀 선정 결과를 말씀드리겠습니다."]
[{"$nulls":9},"학교명","연락처"]
["1)","팀명 :",{"$f":"VLOOKUP($J$5,전체학교명부!$B$1:$L$111,4,FALSE)","v":"TOP"},{"$nulls":6},"남이초등학교",{"$f":"VLOOKUP(J5,#REF!,4,FALSE)","v":{"$error":"#REF!"}}]
["2)","팀장 :",{"$f":"VLOOKUP($J$5,전체학교명부!$B$1:$L$111,9,FALSE)","v":"김나경"}]
["3)","대학교 :",{"$f":"VLOOKUP($J$5,전체학교명부!$B$1:$L$111,10,FALSE)","v":"공주대학교"}]
["4)","연락처 :",{"$f":"VLOOKUP($J$5,전체학교명부!$B$1:$L$111,11,FALSE)","v":"010-4411-6103"}]
[]
["위와 같이 대학생 팀에 선정되었음을 알려드립니다."]
["문의사항은 전화 혹은 메일 주시면 감사드리겠습니다."]
[]
[{"$nulls":9},"정민지 연구원","02-559-3915"]

{"sheet":"매칭결과안내문_대학생","index":5,"n_rows":13,"n_cols":11,"rows_kept":13,"cut":false,"hidden":true,"merged":[]}
["안녕하세요."]
["한국과학창의재단 입니다. 저희 재단에 대한 관심과 지원에 먼저 감사드립니다."]
["2015년 대학생과 함께하는 STEAM의 학교 선정 결과를 말씀드리겠습니다."]
[{"$nulls":9},"학교명","연락처"]
["1)","학교명 :",{"$f":"VLOOKUP(J5,전체학교명부!$E$1:$L$111,2,FALSE)","v":"태봉초등학교"},{"$nulls":6},"STEAMER",{"$f":"VLOOKUP(J5,전체학교명부!$E$1:$L$111,8,FALSE)","v":"010-6258-5593"}]
["2)","담당교사 :",{"$f":"VLOOKUP(J5,전체학교명부!$E$1:$L$111,3,FALSE)","v":{"$error":"#REF!"}}]
["3)","연락처 :",{"$f":"VLOOKUP(J5,전체학교명부!$E$1:$L$111,4,FALSE)","v":{"$error":"#REF!"}}]
["4)","주소 :",{"$f":"VLOOKUP(J5,전체학교명부!$E$1:$L$111,5,FALSE)","v":"충남 공주시 원태봉길 57"}]
[]
["위와 같이 2015년 대학생과 함께하는 STEAM 학교에 선정되었음을 알려드립니다."]
["팀장님께 알려드리오니 팀원들에게도 공유 부탁드립니다."]
["문의사항은 전화 혹은 메일 주시면 감사드리겠습니다."]
[{"$nulls":9},"정민지 연구원","02-559-3915"]